BEGIN:VCALENDAR
VERSION:2.0
PRODID:-//Navet i Bergsjön - ECPv6.15.20//NONSGML v1.0//EN
CALSCALE:GREGORIAN
METHOD:PUBLISH
X-WR-CALNAME:Navet i Bergsjön
X-ORIGINAL-URL:https://navet.org
X-WR-CALDESC:Händelser för Navet i Bergsjön
REFRESH-INTERVAL;VALUE=DURATION:PT1H
X-Robots-Tag:noindex
X-PUBLISHED-TTL:PT1H
BEGIN:VTIMEZONE
TZID:Europe/Stockholm
BEGIN:DAYLIGHT
TZOFFSETFROM:+0100
TZOFFSETTO:+0200
TZNAME:CEST
DTSTART:20250330T010000
END:DAYLIGHT
BEGIN:STANDARD
TZOFFSETFROM:+0200
TZOFFSETTO:+0100
TZNAME:CET
DTSTART:20251026T010000
END:STANDARD
BEGIN:DAYLIGHT
TZOFFSETFROM:+0100
TZOFFSETTO:+0200
TZNAME:CEST
DTSTART:20260329T010000
END:DAYLIGHT
BEGIN:STANDARD
TZOFFSETFROM:+0200
TZOFFSETTO:+0100
TZNAME:CET
DTSTART:20261025T010000
END:STANDARD
BEGIN:DAYLIGHT
TZOFFSETFROM:+0100
TZOFFSETTO:+0200
TZNAME:CEST
DTSTART:20270328T010000
END:DAYLIGHT
BEGIN:STANDARD
TZOFFSETFROM:+0200
TZOFFSETTO:+0100
TZNAME:CET
DTSTART:20271031T010000
END:STANDARD
END:VTIMEZONE
BEGIN:VEVENT
DTSTART;TZID=Europe/Stockholm:20260422T170000
DTEND;TZID=Europe/Stockholm:20260422T200000
DTSTAMP:20260422T022532
CREATED:20260410T144639Z
LAST-MODIFIED:20260416T113635Z
UID:5629-1776877200-1776888000@navet.org
SUMMARY:Folkets unga salong - Ungdomsparlamentet
DESCRIPTION:Navet i Bergsjön och Folkets Hus Hammarkullen  bjuder in till \n\n\n\n\n\n\n\nFOLKETS UNGA SALONG – UNGDOMSPARLAMENTET\n\n\n\nTID: 22 april kl 17.00-20.00 \n\n\n\nPLATS: Kulturhuset Bergsjön \n\n\n\nDebattera politiska förslag från ungdomar tillsammans med representanter från de politiska partierna i parlamentet där vi alla är politiker för en kväll!  \n\n\n\nVi kommer även att göra en ”Live-valbarometer ”\, lyssna på musik av REMAIN och poesi av FARDOWSA ADAMS. \n\n\n\nSjälvklart kommer du även att få ställa dina egna frågor till politikerna. \n\n\n\nVad spelar det för roll vad man röstar på? \n\n\n\nOm alla i Bergsjön röstar på samma parti så får det partiet 3 mandat\, dvs 3 personer blir invalda i kommunfullmäktige. Om alla i Bergsjön\, Kortedala\, Kviberg\, Gamlestaden\, Hjällbo\, och Angered röstar på samma parti så får det partiet 16 mandat och blir ett av Göteborgs tre största partier – på bara röster från våra områden! \n\n\n\nALLA UNGA VÄLKOMNA – VI BJUDER PÅ FIKA
URL:https://navet.org/event/folkets-unga-salong-ungdomsparlamentet/
ATTACH;FMTTYPE=image/jpeg:https://navet.org/wp-content/uploads/2026/04/FUS-22-april.-final-scaled.jpg
END:VEVENT
END:VCALENDAR