BEGIN:VCALENDAR
VERSION:2.0
PRODID:-//Navet i Bergsjön - ECPv6.15.20//NONSGML v1.0//EN
CALSCALE:GREGORIAN
METHOD:PUBLISH
X-ORIGINAL-URL:https://navet.org
X-WR-CALDESC:Händelser för Navet i Bergsjön
REFRESH-INTERVAL;VALUE=DURATION:PT1H
X-Robots-Tag:noindex
X-PUBLISHED-TTL:PT1H
BEGIN:VTIMEZONE
TZID:Europe/Stockholm
BEGIN:DAYLIGHT
TZOFFSETFROM:+0100
TZOFFSETTO:+0200
TZNAME:CEST
DTSTART:20230326T010000
END:DAYLIGHT
BEGIN:STANDARD
TZOFFSETFROM:+0200
TZOFFSETTO:+0100
TZNAME:CET
DTSTART:20231029T010000
END:STANDARD
BEGIN:DAYLIGHT
TZOFFSETFROM:+0100
TZOFFSETTO:+0200
TZNAME:CEST
DTSTART:20240331T010000
END:DAYLIGHT
BEGIN:STANDARD
TZOFFSETFROM:+0200
TZOFFSETTO:+0100
TZNAME:CET
DTSTART:20241027T010000
END:STANDARD
BEGIN:DAYLIGHT
TZOFFSETFROM:+0100
TZOFFSETTO:+0200
TZNAME:CEST
DTSTART:20250330T010000
END:DAYLIGHT
BEGIN:STANDARD
TZOFFSETFROM:+0200
TZOFFSETTO:+0100
TZNAME:CET
DTSTART:20251026T010000
END:STANDARD
END:VTIMEZONE
BEGIN:VEVENT
DTSTART;TZID=Europe/Stockholm:20240909T163000
DTEND;TZID=Europe/Stockholm:20240909T183000
DTSTAMP:20260421T233732
CREATED:20240829T091019Z
LAST-MODIFIED:20240829T092121Z
UID:2600-1725899400-1725906600@navet.org
SUMMARY:INFOTRÄFF Jobb: Projekt av unga för unga
DESCRIPTION:Sök själv eller med en kompis\n\n\n\nTycker du att det saknas saker i Bergsjön som du är intresserad av? \n\n\n\nVill du bli anställd för att genomföra din idé? \n\n\n\nNavet har nu möjlighet att anställa dig som är 16-25 år och har en idé.  \n\n\n\nInformationsträff med skrivarverkstad 9 sept och 23 sept kl 16.30-18.30 på Rymdtorget 2 \n\n\n\nÄr du intresserad men saknar en tydlig idé? Eller vill du bolla din idé med oss innan du skickar in? Vi kan också berätta om idéer som vi har som du kan ta inspiration av och hjälpa till med formuleringar. Denna dagen kan du även få träffa tidigare unga projektledare och höra om deras projekt.  \n\n\n\nAnmäl dig till Hanna senast dagen innan så bjuder vi på mat! \n\n\n\nOm uppdraget:\n\n\n\nMänniskor vet bäst själva vad som behövs i deras liv. Vill du till exempel att det ska finnas bra konserter\, bio\, sportaktiviteter\, kurs i presentationsteknik\, eller andra verksamheter som du och andra unga gillar i Bergsjön? Då kan vi anställa dig för att DU ska kunna arrangera det.  \n\n\n\nVad du får \n\n\n\nVi kommer att ge dig en grundutbildning i ledarskap och projektplanering samt handleda och stötta dig genom hela processen. Vi har även möjlighet att finansiera vissa kostnader kopplat till idén\, tex material\, verktyg och utbildningskostnad. \n\n\n\nAnsökan\n\n\n\nIntresserad? Ansök via detta formulär: https://forms.gle/XZu3ETLubfcL3AnU7 \n\n\n\nOBS! Deadline 29 september \n\n\n\nDu kan söka för en idé som du genomför själv eller tillsammans med andra. Det går också bra att söka två personer tillsammans\, som team. För att ansöka behöver du vara eller bli medlem i Navet. Vi kommer inte att kunna anställa alla som söker\, men alla som söker kommer att erbjudas handledning i att genomföra sin idé. \n\n\n\nVi kommer att anställa personer under 2-6 månader för att jobba 20-50%\, det vill säga 8-20 timmar/veckan. Idén och anställningen ska kunna genomföras mellan nov 2024-maj 2025.  \n\n\n\nAnsök senast 29 september 2024 \n\n\n\nPeriod: 1 nov 2024-31 maj 2025 \n\n\n\nTjänstegrad: 20-50% (8-20 tim/veckan)  \n\n\n\nHar du frågor eller vill du anmäla dig till informationsträff? Kontakta Hanna på hanna.jansson@navet.org eller ring 076-671 14 80.
URL:https://navet.org/event/jobb-projekt-av-unga-for-unga/
END:VEVENT
BEGIN:VEVENT
DTSTART;TZID=Europe/Stockholm:20240904T170000
DTEND;TZID=Europe/Stockholm:20240904T190000
DTSTAMP:20260421T233732
CREATED:20240816T110041Z
LAST-MODIFIED:20240816T110043Z
UID:2578-1725469200-1725476400@navet.org
SUMMARY:Upptäck Makerspace på Siriusgatan! (Vecka 36-37)
DESCRIPTION:Under de kommande två veckorna flyttar vi vårt Makerspace till BSL Siriusgatan. Här får du chansen att dyka in i världen av programmering och 3D-skapande\, helt gratis! Det spelar ingen roll om du är nybörjare eller har erfarenhet – alla är välkomna! \n\n\n\n📅 Måndagar: 2/9 & 9/9 \n\n\n\n⏰ Tid: 17:00–19:00 \n\n\n\n📅 Onsdagar: 4/9 & 11/9 \n\n\n\n⏰ Tid: 17:00–19:00 \n\n\n\nKom och träffa oss på Siriusgatan 96 för inspirerande workshops och spännande projekt. Missa inte chansen att lära dig något nytt och ha kul tillsammans med oss! \n\n\n\n🔔 Glöm inte att följa oss på Instagram för uppdateringar och mer information!
URL:https://navet.org/event/upptack-makerspace-pa-siriusgatan-vecka-36-374sep/
LOCATION:BSL Siriusgatan\, Siriusgatan 96\, Göteborg
ATTACH;FMTTYPE=image/jpeg:https://navet.org/wp-content/uploads/2024/08/Banner-for-projektet-1600-x-400-px.jpg
END:VEVENT
BEGIN:VEVENT
DTSTART;TZID=Europe/Stockholm:20240903T160000
DTEND;TZID=Europe/Stockholm:20240903T200000
DTSTAMP:20260421T233732
CREATED:20240821T174159Z
LAST-MODIFIED:20240821T174201Z
UID:2584-1725379200-1725393600@navet.org
SUMMARY:Öppen teater-praktik med BBB
DESCRIPTION:Vi är en grupp som övar och testar övningar tillsammans. Vi använder olika genres (fysisk teater\, clown\, berättande\, mask\, impro\, forumteater\, skrivande) och turas om att leda övningar. BBB står för Backa\, Biskop\, Bergsjön eftersom de mest fasta deltagarna just nu kommer från föreningar i dessa tre stadsdelar\, men alla är välkomna! Under höstterminen 2024 huserar vi hos Meeting Plays i Biskopsgården. Undantaget är den 3 sept då vi är i kollektivhuset Stacken på Teleskopgatan 2.  \n\n\n\nKontakt: hanna.jansson@navet.org \n\n\n\nTräffarna kommer att vara tisdagar jämn vecka kl 16.00-19.00\, vanligtvis i Biskopsgården hos Meeting Plays(Vårväderstoget 2). Undantag 3 september! \n\n\n\n \n\n\n\n \n\n\n\nDatum: \n\n\n\n3 sept \n\n\n\n17 sept \n\n\n\n2 okt \n\n\n\n15 okt \n\n\n\n29 okt \n\n\n\nosv.
URL:https://navet.org/event/oppen-teater-praktik-med-bbb/
END:VEVENT
BEGIN:VEVENT
DTSTART;TZID=Europe/Stockholm:20240902T170000
DTEND;TZID=Europe/Stockholm:20240902T190000
DTSTAMP:20260421T233732
CREATED:20240816T105317Z
LAST-MODIFIED:20240816T105435Z
UID:2566-1725296400-1725303600@navet.org
SUMMARY:Upptäck Makerspace på Siriusgatan! (Vecka 36-37)
DESCRIPTION:Under de kommande två veckorna flyttar vi vårt Makerspace till BSL Siriusgatan. Här får du chansen att dyka in i världen av programmering och 3D-skapande\, helt gratis! Det spelar ingen roll om du är nybörjare eller har erfarenhet – alla är välkomna! \n\n\n\n📅 Måndagar: 2/9 & 9/9 \n\n\n\n⏰ Tid: 17:00–19:00 \n\n\n\n📅 Onsdagar: 4/9 & 11/9 \n\n\n\n⏰ Tid: 17:00–19:00 \n\n\n\nKom och träffa oss på Siriusgatan 96 för inspirerande workshops och spännande projekt. Missa inte chansen att lära dig något nytt och ha kul tillsammans med oss! \n\n\n\n🔔 Glöm inte att följa oss på Instagram för uppdateringar och mer information!
URL:https://navet.org/event/makerspace-i-bergsjon-2sep/
LOCATION:BSL Siriusgatan\, Siriusgatan 96\, Göteborg
ATTACH;FMTTYPE=image/jpeg:https://navet.org/wp-content/uploads/2024/08/Banner-for-projektet-1600-x-400-px.jpg
END:VEVENT
BEGIN:VEVENT
DTSTART;TZID=Europe/Stockholm:20240902T164500
DTEND;TZID=Europe/Stockholm:20240902T190000
DTSTAMP:20260421T233732
CREATED:20240829T085329Z
LAST-MODIFIED:20240829T085330Z
UID:2596-1725295500-1725303600@navet.org
SUMMARY:Planeringsmöte inför Bergsjörådet 25 sept
DESCRIPTION:I våras hade vi ett uppstartsmöte för en process kring ett ”Bergsjöråd”. Alla Bergsjöbor är välkomna. Detta komer att bli ett forum eller process där vi i Bergsjön kan lyfta saker tillsammans. Diskutera ämnen tillsammans eller för att lyfta saker till andra aktörer och beslutsfattare.  \n\n\n\nI aug beslutade planeringsgruppen att Bergsjörådet under 2024 är ett stormöte två gånger/termin. Kommande stormöten är 25 september och 4 december \n\n\n\nDetta mötet är till för att planera arrangemanget ”Bergsjörådet den 25 sept”. \n\n\n\n\nTid: 2 sept kl 16.45 \n\n\n\nPlats: Rymdtorget 2 \n\n\n\n\nAlla Bergsjöbor och Bergsjöföreningar välkomna! \n\n\n\nMaila till hanna.jansson@navet.org och anmäl dig\, så skickar vi anteckningarna från senaste mötet.
URL:https://navet.org/event/planeringsmote-infor-bergsjoradet-25-sept/
END:VEVENT
BEGIN:VEVENT
DTSTART;TZID=Europe/Stockholm:20240831T120000
DTEND;TZID=Europe/Stockholm:20240831T170000
DTSTAMP:20260421T233732
CREATED:20240704T123808Z
LAST-MODIFIED:20240704T123809Z
UID:2503-1725105600-1725123600@navet.org
SUMMARY:MADE IN BERGSJÖN - Hållbar lokal marknad
DESCRIPTION:För första gången gör vi MADE IN BERGSJÖN – Hållbar lokal marknad! Engagerade invånare\, Navet i Bergsjön och Kulturhuset i Bergsjön arrangerar tillsammans. \n\n\n\nFokuset för marknaden är hållbara och lokala produkter och tjänster\, hantverk\, mat\, loppisgrejer\, textil\, konst\, återbruk\, grönsaker och annat lokalt och hållbart. \n\n\n\nMarknaden sker lördag 31/8 på Tellusfestivalen\, en områdesfestival runt Rymdtorget och Kulturhuset. \n\n\n\n~*~*~*~*~*~*~*~*~*~*~ \n\n\n\nVill du sälja på marknaden? Läs mer och anmäl dig här senast 8/8 \n\n\n\n~*~*~*~*~*~*~*~*~*~*~ \n\n\n\nTräff inför marknadenVälkommen på en träff inför marknaden där vi dels går igenom info och frågor samt planerar det sista inför marknaden tillsammans. Varmt välkommen! \n\n\n\nTid: Torsdag 15/8 kl.17:30-19:30 \n\n\n\nPlats: Navets lokal\, Rymdtorget 2 \n\n\n\n~*~*~*~*~*~*~*~*~*~*~ \n\n\n\nVarmt välkomna att både besöka marknaden och att sälja! \n\n\n\nKolla in vad som händer mer på Tellusfestivalen här.
URL:https://navet.org/event/made-in-bergsjon-hallbar-lokal-marknad/
END:VEVENT
BEGIN:VEVENT
DTSTART;TZID=Europe/Stockholm:20240831T120000
DTEND;TZID=Europe/Stockholm:20240831T144500
DTSTAMP:20260421T233732
CREATED:20240805T072130Z
LAST-MODIFIED:20240805T072131Z
UID:2530-1725105600-1725115500@navet.org
SUMMARY:Karaoke på Tellusfestivalen!
DESCRIPTION:Kom och sjung dina favoritlåtar! Vi står redo med mikrofon\, värd och högtalare – och inte minst den obligatoriska Kärlekspubliken – redo att älska DITT uppträdande! \n\n\n\n<3 <3 <3 \n\n\n\nTid: 31 augusti kl 12.00-14.45 \n\n\n\nPlats: Gå-gatan utanför Rymdtorget 2
URL:https://navet.org/event/karaoke-pa-tellusfestivalen/
END:VEVENT
BEGIN:VEVENT
DTSTART;TZID=Europe/Stockholm:20240826T173000
DTEND;TZID=Europe/Stockholm:20240826T200000
DTSTAMP:20260421T233732
CREATED:20240805T073858Z
LAST-MODIFIED:20240805T073900Z
UID:2544-1724693400-1724702400@navet.org
SUMMARY:Basket med Imran
DESCRIPTION:
URL:https://navet.org/event/basket-med-imran-6/
END:VEVENT
BEGIN:VEVENT
DTSTART;TZID=Europe/Stockholm:20240822T173000
DTEND;TZID=Europe/Stockholm:20240822T200000
DTSTAMP:20260421T233732
CREATED:20240805T073742Z
LAST-MODIFIED:20240805T073743Z
UID:2542-1724347800-1724356800@navet.org
SUMMARY:Basket med Imran
DESCRIPTION:
URL:https://navet.org/event/basket-med-imran-5/
END:VEVENT
BEGIN:VEVENT
DTSTART;TZID=Europe/Stockholm:20240821T173000
DTEND;TZID=Europe/Stockholm:20240821T193000
DTSTAMP:20260421T233732
CREATED:20240805T074541Z
LAST-MODIFIED:20240805T074543Z
UID:2553-1724261400-1724268600@navet.org
SUMMARY:Öppet på Navet
DESCRIPTION:Varje onsdag är du välkommen till oss på Navet för att snacka\, höra mer om vad vi gör\, bolla idéer eller få stöd med ett projekt eller projektansökan av oss! \n\n\n\nVälkommen – vi har satt på kaffet! \n\n\n\n🙂
URL:https://navet.org/event/oppet-pa-navet-3/
END:VEVENT
BEGIN:VEVENT
DTSTART;TZID=Europe/Stockholm:20240819T173000
DTEND;TZID=Europe/Stockholm:20240819T200000
DTSTAMP:20260421T233732
CREATED:20240805T073557Z
LAST-MODIFIED:20240805T073558Z
UID:2540-1724088600-1724097600@navet.org
SUMMARY:Basket med Imran
DESCRIPTION:
URL:https://navet.org/event/basket-med-imran-4/
END:VEVENT
BEGIN:VEVENT
DTSTART;TZID=Europe/Stockholm:20240817T130000
DTEND;TZID=Europe/Stockholm:20240817T150000
DTSTAMP:20260421T233732
CREATED:20240805T065958Z
LAST-MODIFIED:20240805T070020Z
UID:2523-1723899600-1723906800@navet.org
SUMMARY:Filmklubben visar barnfilm
DESCRIPTION:Välkommen till filmvisning med Navets Filmklubb i samarbete med Kulturhuset Bergsjön! \n\n\n\nVi har inte valt film än\, informationen kommer att uppdateras inom en ca vecka. Maila Shad@navet.org eller hanna.jansson@navet.org om du har tips på bra barnfilmer! \n\n\n\nMan måste vara medlem i filmklubben för att se filmen\, medlemsskapet är gratis och det går bra att bli medlem på plats. Varmt Välkomna! \n\n\n\nVill du vara med och besluta om film och hjälpa till vid biovisningen? Nästa biovisning är den 17 augusti kl 13.00\, vi behöver fler pesoner till både den 10e och den 17e. Du behövs! Kontakta hanna.jansson@navet.org!
URL:https://navet.org/event/filmklubben-visar-barnfilm/
END:VEVENT
BEGIN:VEVENT
DTSTART;TZID=Europe/Stockholm:20240815T173000
DTEND;TZID=Europe/Stockholm:20240815T200000
DTSTAMP:20260421T233732
CREATED:20240805T073412Z
LAST-MODIFIED:20240805T073413Z
UID:2538-1723743000-1723752000@navet.org
SUMMARY:Basket med Imran
DESCRIPTION:
URL:https://navet.org/event/basket-med-imran-3/
END:VEVENT
BEGIN:VEVENT
DTSTART;TZID=Europe/Stockholm:20240815T173000
DTEND;TZID=Europe/Stockholm:20240815T193000
DTSTAMP:20260421T233732
CREATED:20240704T094924Z
LAST-MODIFIED:20240704T123408Z
UID:2494-1723743000-1723750200@navet.org
SUMMARY:Träff inför MADE IN BERGSJÖN - hållbar lokal marknad
DESCRIPTION:Välkommen på en träff inför marknaden där vi dels går igenom info och frågor samt  planerar det sista inför marknaden tillsammans. Varmt välkommen! \n\n\n\n“MADE IN BERGSJÖN – Hållbar lokal marknad” sker lördag 31/8 på Tellusfestivalen\, en områdesfestival runt Rymdtorget och Kulturhuset. \n\n\n\nFör första gången gör vi denna marknad. Engagerade invånare\, Navet i Bergsjön och Kulturhuset i Bergsjön arrangerar tillsammans. \n\n\n\nFokuset för marknaden är hållbara och lokala produkter och tjänster\, hantverk\, mat\, loppisgrejer\, textil\, konst\, återbruk\, grönsaker och annat lokalt och hållbart. \n\n\n\nHär läser du mer om marknaden och anmäler dig. Obs – anmälan senast 8/8.
URL:https://navet.org/event/traff-infor-made-in-bergsjon-hallbar-lokal-marknad/
LOCATION:Navets lokal\, Rymdtorget 2\, Göteborg\, 415 66\, Sverige
ATTACH;FMTTYPE=image/png:https://navet.org/wp-content/uploads/2024/06/Made-in-Bergsjon-1-1-1.png
END:VEVENT
BEGIN:VEVENT
DTSTART;TZID=Europe/Stockholm:20240814T173000
DTEND;TZID=Europe/Stockholm:20240814T193000
DTSTAMP:20260421T233732
CREATED:20240805T074419Z
LAST-MODIFIED:20240805T074420Z
UID:2551-1723656600-1723663800@navet.org
SUMMARY:Öppet på Navet
DESCRIPTION:Varje onsdag är du välkommen till oss på Navet för att snacka\, höra mer om vad vi gör\, bolla idéer eller få stöd med ett projekt eller projektansökan av oss! \n\n\n\nVälkommen – vi har satt på kaffet! \n\n\n\n🙂
URL:https://navet.org/event/oppet-pa-navet-2/
END:VEVENT
BEGIN:VEVENT
DTSTART;TZID=Europe/Stockholm:20240814T173000
DTEND;TZID=Europe/Stockholm:20240814T193000
DTSTAMP:20260421T233732
CREATED:20240805T071617Z
LAST-MODIFIED:20240805T071619Z
UID:2528-1723656600-1723663800@navet.org
SUMMARY:Planeringsmöte tema skola och förskola
DESCRIPTION:Under våren hade vi tillsammans med Bergsjön Studiecenter Läxhjälpen två möten med politiker och tjänstemän inom skola och förskola. Anledningen är att många av oss som bor i Bergsjön är oroliga för situationen för våra barn. Många går ut grundskolan med ofullständiga betyg och det är ett stort problem. Vi tror att vi tillsammans kan påverka situationen till det bättre! \n\n\n\nDetta möte är ett planeringsmöte för föräldrar och föreningar som engagerar sig i frågan. Vi kommer att utvärdera hur senaste mötet med politiker och rektorer gick och prata om vad vårt nästa steg är. \n\n\n\nTid: 14 aug kl 17.30-19.30 \n\n\n\nPlats: Rymdtorget 2 \n\n\n\nMaila hanna.jansson@navet.org och anmäl dig\, så skickar vi förra mötets anteckningar till dig! \n\n\n\nVälkommen!
URL:https://navet.org/event/planeringsmote-tema-skola-och-forskola/
END:VEVENT
BEGIN:VEVENT
DTSTART;TZID=Europe/Stockholm:20240812T173000
DTEND;TZID=Europe/Stockholm:20240812T200000
DTSTAMP:20260421T233732
CREATED:20240805T073215Z
LAST-MODIFIED:20240805T073216Z
UID:2535-1723483800-1723492800@navet.org
SUMMARY:Basket med Imran
DESCRIPTION:
URL:https://navet.org/event/basket-med-imran-2/
END:VEVENT
BEGIN:VEVENT
DTSTART;TZID=Europe/Stockholm:20240810T130000
DTEND;TZID=Europe/Stockholm:20240810T150000
DTSTAMP:20260421T233732
CREATED:20240803T134727Z
LAST-MODIFIED:20240803T135322Z
UID:2519-1723294800-1723302000@navet.org
SUMMARY:Filmklubben visar Mästerkatten 2
DESCRIPTION:Välkommen till filmvisning med Navets Filmklubb i samarbete med Kulturhuset Bergsjön! \n\n\n\nDenna gång visas Mästerkatten 2. \n\n\n\nFilmen rekommenderas från 7 år. \n\n\n\nMan måste vara medlem i filmklubben för att se filmen\, medlemsskapet är gratis och det går bra att bli medlem på plats. Varmt Välkomna! \n\n\n\nVill du vara med och besluta om film och hjälpa till vid biovisningen? Nästa biovisning är den 17 augusti kl 13.00\, vi behöver fler pesoner till både den 10e och den 17e. Du behövs! Kontakta hanna.jansson@navet.org!
URL:https://navet.org/event/filmklubben-visar-masterkatten-2/
END:VEVENT
BEGIN:VEVENT
DTSTART;TZID=Europe/Stockholm:20240807T173000
DTEND;TZID=Europe/Stockholm:20240807T200000
DTSTAMP:20260421T233732
CREATED:20240805T074321Z
LAST-MODIFIED:20240805T074322Z
UID:2548-1723051800-1723060800@navet.org
SUMMARY:Öppet på Navet
DESCRIPTION:Varje onsdag är du välkommen till oss på Navet för att snacka\, höra mer om vad vi gör\, bolla idéer eller få stöd med ett projekt eller projektansökan av oss! \n\n\n\nVälkommen – vi har satt på kaffet! \n\n\n\n🙂
URL:https://navet.org/event/oppet-pa-navet/
END:VEVENT
BEGIN:VEVENT
DTSTART;TZID=Europe/Stockholm:20240806T173000
DTEND;TZID=Europe/Stockholm:20240806T193000
DTSTAMP:20260421T233732
CREATED:20240805T070756Z
LAST-MODIFIED:20240805T070756Z
UID:2525-1722965400-1722972600@navet.org
SUMMARY:Planeringsmöte Bergsjörådet
DESCRIPTION:I våras hade vi ett uppstartsmöte för en process kring ett ”Bergsjöråd”. Alla Bergsjöbor är välkomna. Detta komer att bli ett forum eller process där vi i Bergsjön kan lyfta saker tillsammans. Diskutera ämnen tillsammans eller för att lyfta saker till andra aktörer och beslutsfattare. Detta mötet är ett planeringsmöte där vi pratar om hur vi går vidare med detta.  \n\n\n\n\nTid: 6 aug kl 17.30 \n\n\n\nPlats: Rymdtorget 2 \n\n\n\n\nAlla Bergsjöbor och Bergsjöföreningar välkomna! \n\n\n\nMaila till hanna.jansson@navet.org och anmäl dig\, så skickar vi anteckningarna från senaste mötet.
URL:https://navet.org/event/planeringsmote-bergsjoradet/
END:VEVENT
BEGIN:VEVENT
DTSTART;TZID=Europe/Stockholm:20240805T173000
DTEND;TZID=Europe/Stockholm:20240805T200000
DTSTAMP:20260421T233732
CREATED:20240805T074013Z
LAST-MODIFIED:20240805T074014Z
UID:2546-1722879000-1722888000@navet.org
SUMMARY:Basket med Imran
DESCRIPTION:
URL:https://navet.org/event/basket-med-imran-7/
END:VEVENT
BEGIN:VEVENT
DTSTART;TZID=Europe/Stockholm:20240805T173000
DTEND;TZID=Europe/Stockholm:20240805T200000
DTSTAMP:20260421T233732
CREATED:20240805T073024Z
LAST-MODIFIED:20240805T073026Z
UID:2532-1722879000-1722888000@navet.org
SUMMARY:Basket med Imran
DESCRIPTION:
URL:https://navet.org/event/basket-med-imran/
END:VEVENT
BEGIN:VEVENT
DTSTART;TZID=Europe/Stockholm:20240805T173000
DTEND;TZID=Europe/Stockholm:20240805T193000
DTSTAMP:20260421T233732
CREATED:20240805T074627Z
LAST-MODIFIED:20240805T074628Z
UID:2555-1722879000-1722886200@navet.org
SUMMARY:Öppet på Navet
DESCRIPTION:Varje onsdag är du välkommen till oss på Navet för att snacka\, höra mer om vad vi gör\, bolla idéer eller få stöd med ett projekt eller projektansökan av oss! \n\n\n\nVälkommen – vi har satt på kaffet! \n\n\n\n🙂
URL:https://navet.org/event/oppet-pa-navet-4/
END:VEVENT
BEGIN:VEVENT
DTSTART;TZID=Europe/Stockholm:20240708T160000
DTEND;TZID=Europe/Stockholm:20240708T180000
DTSTAMP:20260421T233732
CREATED:20240620T135254Z
LAST-MODIFIED:20240620T135255Z
UID:2491-1720454400-1720461600@navet.org
SUMMARY:Textilworkshop - broderi\, collage och måleri (inför Tellusfestivalen)
DESCRIPTION:På Tellusfestivalen den 31 augusti ska vi för första gången arrangera en marknad. För lokalt producerad konst\, hantverk\, mat\, grönsaker\, tjänster\, loppis och ännu mera. \n\n\n\nKom och var med och dekorera vår banderoll. Vi kommer att brodera\, klippa\, sy och måla på bokstäverna som vi senare skall sy fast så att de bildar orden “Made by Bergsjön – Hållbar lokal marknad”. \n\n\n\nSöndag 30 juni kl 13:00-16:00 leds workshopen av Indira Sojtaric från Textilateljen Bergsjön och Zdenka Kaliski från Kvinnocenter i Bergsjön. Malin Widehammar från Navet finns också på plats. \n\n\n\nMåndag 8 juli 16:00-18:00 leds workshopen av Diane Kaze Krim från The African way och Jilla Faraji från Kurdiska kvinnoförenigen. Ida Lindberg från kulturhuset finns också på plats. \n\n\n\nKom och träffa arbetsgruppen kring marknaden och hjälp oss sy vår banderoll. \n\n\n\nKanske har du också något du vill sälja på marknaden? \n\n\n\nHär finns info marknaden\, kolla in det!https://navet.org/made-in-bergsjon-hallbar-lokal-marknad-2/ \n\n\n\nVi som arrangerar är Navet i Bergsjön och Kulturhuset
URL:https://navet.org/event/textilworkshop-broderi-collage-och-maleri-infor-tellusfestivalen-2/
ATTACH;FMTTYPE=image/png:https://navet.org/wp-content/uploads/2024/06/Made-in-Bergsjon-1-1.png
END:VEVENT
BEGIN:VEVENT
DTSTART;TZID=Europe/Stockholm:20240630T130000
DTEND;TZID=Europe/Stockholm:20240630T160000
DTSTAMP:20260421T233732
CREATED:20240620T135142Z
LAST-MODIFIED:20240620T135143Z
UID:2487-1719752400-1719763200@navet.org
SUMMARY:Textilworkshop - broderi\, collage och måleri (inför Tellusfestivalen)
DESCRIPTION:På Tellusfestivalen den 31 augusti ska vi för första gången arrangera en marknad. För lokalt producerad konst\, hantverk\, mat\, grönsaker\, tjänster\, loppis och ännu mera. \n\n\n\nKom och var med och dekorera vår banderoll. Vi kommer att brodera\, klippa\, sy och måla på bokstäverna som vi senare skall sy fast så att de bildar orden “Made by Bergsjön – Hållbar lokal marknad”. \n\n\n\nSöndag 30 juni kl 13:00-16:00 leds workshopen av Indira Sojtaric från Textilateljen Bergsjön och Zdenka Kaliski från Kvinnocenter i Bergsjön. Malin Widehammar från Navet finns också på plats. \n\n\n\nMåndag 8 juli 16:00-18:00 leds workshopen av Diane Kaze Krim från The African way och Jilla Faraji från Kurdiska kvinnoförenigen. Ida Lindberg från kulturhuset finns också på plats. \n\n\n\nKom och träffa arbetsgruppen kring marknaden och hjälp oss sy vår banderoll. \n\n\n\nKanske har du också något du vill sälja på marknaden? \n\n\n\nHär finns info marknaden\, kolla in det!https://navet.org/made-in-bergsjon-hallbar-lokal-marknad-2/ \n\n\n\nVi som arrangerar är Navet i Bergsjön och Kulturhuset
URL:https://navet.org/event/textilworkshop-broderi-collage-och-maleri-infor-tellusfestivalen/
ATTACH;FMTTYPE=image/png:https://navet.org/wp-content/uploads/2024/06/Made-in-Bergsjon-1-1.png
END:VEVENT
BEGIN:VEVENT
DTSTART;TZID=Europe/Stockholm:20240603T173000
DTEND;TZID=Europe/Stockholm:20240603T193000
DTSTAMP:20260421T233732
CREATED:20240507T093817Z
LAST-MODIFIED:20240507T093819Z
UID:2400-1717435800-1717443000@navet.org
SUMMARY:Möte med skol- och förskolepolitiker samt tjänstemän
DESCRIPTION:Tid: Måndag 3 juni kl 17.30 \n\n\n\nPlats: Bergsjöskolans personalrum \n\n\n\nOBS! Du måste anmäla dig innan! \n\n\n\nBSL och Navet bjöd in politiker och skolledning i Bergsjön för panelsamtal om skolfrågan i februari. För att följa upp detta vill vi ha ett möte med färre personer och ha ett bättre samtal som blir mer konkret. Vi bjuder in alla föreningar som vill att skicka representanter till detta möte. Om du vill  med som privatperson eller som medlem i Navet – hör av dig! \n\n\n\nÄr du eller din förening intresserad av att vara med? ➡️  Välkommen att kontakta hanna.jansson@navet.org  \n\n\n\n\n\n\n\nOBS! Förmöte inför möte med skol- och förskolepolitiker och tjänstemän 29 maj\n\n\n\nTid: Onsdag 29 maj kl 17.30 \n\n\n\nPlats: Rymdtorget 2 \n\n\n\nVi snackar ihop oss inför mötet med politiker – ALLA VÄLKOMNA! \n\n\n\nVad ska vi ta upp med politikerna och tjänstemännen?
URL:https://navet.org/event/mote-med-skol-och-forskolepolitiker-samt-tjansteman/
END:VEVENT
BEGIN:VEVENT
DTSTART;TZID=Europe/Stockholm:20240529T173000
DTEND;TZID=Europe/Stockholm:20240529T193000
DTSTAMP:20260421T233732
CREATED:20240507T093416Z
LAST-MODIFIED:20240507T093852Z
UID:2397-1717003800-1717011000@navet.org
SUMMARY:Förmöte inför möte med skol- och förskolepolitiker och tjänstemän
DESCRIPTION:Tid: Onsdag 29 maj kl 17.30 \n\n\n\nPlats: Rymdtorget 2 \n\n\n\nVi snackar ihop oss inför mötet med politiker – ALLA VÄLKOMNA! \n\n\n\nVad ska vi ta upp med politikerna och tjänstemännen? \n\n\n\n\n\n\n\nInfo om möte med skol- och förskolepolitiker och tjänstemän:\n\n\n\nTid: Måndag 3 juni kl 17.30-19.30 \n\n\n\nPlats: Bergsjöskolans personalrum \n\n\n\nOBS! Du måste anmäla dig innan! \n\n\n\nBSL och Navet bjöd in politiker och skolledning i Bergsjön för panelsamtal om skolfrågan i februari. För att följa upp detta vill vi ha ett möte med färre personer och ha ett bättre samtal som blir mer konkret. Vi bjuder in alla föreningar som vill att skicka representanter till detta möte. Om du vill  med som privatperson eller som medlem i Navet – hör av dig! \n\n\n\nÄr du eller din förening intresserad av att vara med? ➡️  Välkommen att kontakta hanna.jansson@navet.org 
URL:https://navet.org/event/formote-infor-mote-med-skol-och-forskolepolitiker-och-tjanstemanformote-infor/
END:VEVENT
BEGIN:VEVENT
DTSTART;TZID=Europe/Stockholm:20240523T150000
DTEND;TZID=Europe/Stockholm:20240523T183000
DTSTAMP:20260421T233732
CREATED:20240507T090720Z
LAST-MODIFIED:20240507T090722Z
UID:2394-1716476400-1716489000@navet.org
SUMMARY:Hela Bergsjön städar - Med Bergsjön 2031
DESCRIPTION:Hej och välkomna att anmäla er till årets städdag 23 maj! \n\n\n\nI Bergsjön och i Göteborg\, men också runt om i hela världen har vi ett stort problem med nedskräpning. I år startar vi förhoppningsvis en tradition årlig städdag:  Hela Bergsjön städar.  \n\n\n\nAlla måste vi hjälpas åt och vi skulle bli glada om fler vill vara med i kampen mot nedskräpningen. Nu kan grupper och föreningar hjälpa till att städa och på samma gång tjäna extra pengar till föreningen.   \n\n\n\nStäddag: Torsdag 23 maj \n\n\n\nTider: Mellan 15.00-18.30 – städning ca 2 timmar/pass \n\n\n\nOmrådet att städa: Återkommer vi om närmare städdagen – ni får gärna ge förslag\, tex om ni är en förening med många medlemmar vid Komettorget kanske det passar er bäst att städa där. Det kommer att finnas upphämtningsplatser på 4 ställen\, Rymdtorget\, Komettorget\, Stjärnbildsgatan och Gärdsås Torg. Där hämtar man påsar\, lämnar skräp och grillar korv efteråt. Det går även bra att städa annan tid om så önskas. \n\n\n\nErsättning: 1500 kr i föreningsbidrag/10 deltagare per pass \n\n\n\nÖvrigt: Vi avslutar städdagen med grill och mys från 17.00 \n\n\n\nAnmälan föreningar och grupper\, senast 15 maj: hanna.jansson@navet.org \n\n\n\nKontakt Bergsjön 2031: pernilla.hallberg@bergsjon2031.se \n\n\n\n\n\n\n\nHela Bergsjön städar är ett initiativ från Bergsjön 2031. De flesta av Bergsjöns  fastighetsägare kommer att medverka med sin personal och hoppas nu att fler vill vara med!
URL:https://navet.org/event/hela-bergsjon-stadar-med-bergsjon-2031/
END:VEVENT
BEGIN:VEVENT
DTSTART;TZID=Europe/Stockholm:20240522T170000
DTEND;TZID=Europe/Stockholm:20240522T190000
DTSTAMP:20260421T233732
CREATED:20240507T083824Z
LAST-MODIFIED:20240507T083825Z
UID:2392-1716397200-1716404400@navet.org
SUMMARY:Lär känna Navet
DESCRIPTION:Välkommen – särskilt nya medlemmar! Kom och ta en fika med oss och få höra mer om Navet\, vad vi gör och vad vi kan göra – om vi hjälps åt.  \n\n\n\nVi berättar vad som är på gång och hur du kan delta och hjälpa till.  \n\n\n\nVi vill höra om vad du är pepp på – finns det något vi kan stötta dig i? Vad kan vi i Bergsjön göra tillsammans? \n\n\n\nVarmt välkommen! \n\n\n\nKontakt: Hanna\, hanna.jansson@navet.org\, tel 076-671 14 80.
URL:https://navet.org/event/lar-kanna-navet/
END:VEVENT
BEGIN:VEVENT
DTSTART;TZID=Europe/Stockholm:20240517T173000
DTEND;TZID=Europe/Stockholm:20240517T193000
DTSTAMP:20260421T233732
CREATED:20240507T082635Z
LAST-MODIFIED:20240507T082637Z
UID:2389-1715967000-1715974200@navet.org
SUMMARY:Made in Bergsjön - hållbar lokal marknad. Välkommen på planeringsmöte! 
DESCRIPTION:Tid: Fredag 17 maj kl.17.30-19:30 \n\n\n\nPlats: Rymdtorget 2 \n\n\n\nVi välkomnar och vill bli fler som är med och förverkligar och utvecklar denna idé om en lokal marknad\, första gången under Tellusfestivalen!  \n\n\n\nMarknadens fokus är hållbara och lokala produkter och tjänster\, hantverk\, textil\, konst\, mat\, grönsaker med mera. \n\n\n\nAnmäl dig gärna i förväg (men det är inget måste). Hör av dig senast tisdag 10/5 om du behöver barnpassning.  \n\n\n\n➡️Kontakt: malin.widehammar@navet.org eller 0766 711 499
URL:https://navet.org/event/made-in-bergsjon-hallbar-lokal-marknad-valkommen-pa-planeringsmote/
END:VEVENT
END:VCALENDAR