BEGIN:VCALENDAR
VERSION:2.0
PRODID:-//Navet i Bergsjön - ECPv6.15.20//NONSGML v1.0//EN
CALSCALE:GREGORIAN
METHOD:PUBLISH
X-WR-CALNAME:Navet i Bergsjön
X-ORIGINAL-URL:https://navet.org
X-WR-CALDESC:Händelser för Navet i Bergsjön
REFRESH-INTERVAL;VALUE=DURATION:PT1H
X-Robots-Tag:noindex
X-PUBLISHED-TTL:PT1H
BEGIN:VTIMEZONE
TZID:Europe/Stockholm
BEGIN:DAYLIGHT
TZOFFSETFROM:+0100
TZOFFSETTO:+0200
TZNAME:CEST
DTSTART:20220327T010000
END:DAYLIGHT
BEGIN:STANDARD
TZOFFSETFROM:+0200
TZOFFSETTO:+0100
TZNAME:CET
DTSTART:20221030T010000
END:STANDARD
BEGIN:DAYLIGHT
TZOFFSETFROM:+0100
TZOFFSETTO:+0200
TZNAME:CEST
DTSTART:20230326T010000
END:DAYLIGHT
BEGIN:STANDARD
TZOFFSETFROM:+0200
TZOFFSETTO:+0100
TZNAME:CET
DTSTART:20231029T010000
END:STANDARD
BEGIN:DAYLIGHT
TZOFFSETFROM:+0100
TZOFFSETTO:+0200
TZNAME:CEST
DTSTART:20240331T010000
END:DAYLIGHT
BEGIN:STANDARD
TZOFFSETFROM:+0200
TZOFFSETTO:+0100
TZNAME:CET
DTSTART:20241027T010000
END:STANDARD
END:VTIMEZONE
BEGIN:VEVENT
DTSTART;TZID=Europe/Stockholm:20231101T180000
DTEND;TZID=Europe/Stockholm:20231101T210000
DTSTAMP:20260422T065044
CREATED:20230927T165353Z
LAST-MODIFIED:20231013T161507Z
UID:1714-1698861600-1698872400@navet.org
SUMMARY:Filmvisning tema SKRÄCK: INSIDIOUS - Obs! Barnförbjuden
DESCRIPTION:Välkommen till höstens filmvisningar med filmklubben!\n\n \n1 november är temat skräckfilm\, kom alla som vågar!\n\nKl 14.00 Monsterfilm för barn: Hotell Transylvanien\n\nKl 18.00 Barnförbjuden skräckfilm – INSIDIOUS\n\n\n\n \n\n\n18 nov – tema dystopi: tider och filmer kommer snart\n\n9 dec – tema knattebio/barnvagnsbio: tider och filmer kommer snart\n\n \nI våras startade Navet en filmklubb som kan visa biofilmer i Bergsjön\, på kulturhuset och på Bågskytten. Allt kommer att drivas ideellt och vi som är med får bestämma VILKA filmer vi vill visa\, samt NÄR och HUR ofta vi vill visa film. \n\n \nAlla välkomna\, men man måste vara medlem i filmklubben för att få se film. 2023 är medlemskap i filmklubben gratis\, men den kommer troligen att kosta pengar framöver\, allt detta har att göra med licensregler vid biovisning och att licensen kostar pengar.\n \n \nMer info om datum/tider och vilken film kommer snart på Facebook och hemsida. \n \nVill du hjälpa till på visningen\, eller vill du vara med och planera visningar? – maila hanna.jansson@navet.org.
URL:https://navet.org/event/filmvisning-tema-skrack-obs-barnforbjuden/
LOCATION:Kulturhus Bergsjön\, Bergsjöns kulturhusväg 4c\, Göteborg\, Sverige
END:VEVENT
BEGIN:VEVENT
DTSTART;TZID=Europe/Stockholm:20231101T140000
DTEND;TZID=Europe/Stockholm:20231101T153000
DTSTAMP:20260422T065044
CREATED:20230927T165002Z
LAST-MODIFIED:20231025T163506Z
UID:1712-1698847200-1698852600@navet.org
SUMMARY:Filmvisning för barn tema MONSTER - Hotell Transylvanien
DESCRIPTION:Välkommen till höstens filmvisningar med filmklubben!\n\n \n1 november är temat skräck och monster\, kom alla som vågar!\n\nKl 14.00 Monsterfilm för barn: Hotell Transylvanien\n\nKl 18.00 Barnförbjuden skräckfilm för äldre: Insidious\n\n\n\n \n\n \n18 nov – tema dystopi – tider och filmer kommer snart\n\n9 dec – tema knattebio/barnvagnsbio – tider och filmer kommer snart\n\n \nI våras startade Navet en filmklubb som kan visa biofilmer i Bergsjön\, på kulturhuset och på Bågskytten. Allt kommer att drivas ideellt och vi som är med får bestämma VILKA filmer vi vill visa\, samt NÄR och HUR ofta vi vill visa film. \n\n \nAlla välkomna\, men man måste vara medlem i filmklubben för att få se film. 2023 är medlemskap i filmklubben gratis\, men den kommer troligen att kosta pengar framöver\, allt detta har att göra med licensregler vid biovisning och att licensen kostar pengar.\n \n \nMer info om datum/tider och vilken film kommer snart på Facebook och hemsida. \n \nVill du hjälpa till på visningen\, eller vill du vara med och planera visningar? – maila hanna.jansson@navet.org.
URL:https://navet.org/event/filmvisning-for-barn-tema-skrack-hotell-transylvanien/
LOCATION:Kulturhus Bergsjön\, Bergsjöns kulturhusväg 4c\, Göteborg\, Sverige
END:VEVENT
BEGIN:VEVENT
DTSTART;TZID=Europe/Stockholm:20231028T160000
DTEND;TZID=Europe/Stockholm:20231028T200000
DTSTAMP:20260422T065044
CREATED:20231005T100228Z
LAST-MODIFIED:20231005T100228Z
UID:1836-1698508800-1698523200@navet.org
SUMMARY:KULTURAFTON på Bågskytten
DESCRIPTION:En härlig kväll för gemenskap med kultur\, hantverk och musik av kvinnor – mer info kommer inom kort!
URL:https://navet.org/event/kulturafton-pa-bagskytten/
LOCATION:Bågskytten\, Merkuriusgatan 4\, Göteborg\, 41566\, Sverige
END:VEVENT
BEGIN:VEVENT
DTSTART;TZID=Europe/Stockholm:20231025T100000
DTEND;TZID=Europe/Stockholm:20231025T121500
DTSTAMP:20260422T065044
CREATED:20231020T141742Z
LAST-MODIFIED:20231020T141742Z
UID:1847-1698228000-1698236100@navet.org
SUMMARY:Kvinnors hälsa - kost\, motion\, klimakterium\, socialt\, gemenskap
DESCRIPTION:Välkommen till träffar på tema Kvinnors hälsa. Lär dig mer om kost\, motion\, social hälsa och klimakterium. Vi pratar och lär oss tillsammans! \nVarje onsdag kl 10.00-12.15 på Merkuriusgatan 4. \nLedare är Indira Sojtaric.
URL:https://navet.org/event/kvinnors-halsa-kost-motion-klimakterium-socialt-gemenskap/
LOCATION:Bågskytten\, Merkuriusgatan 4\, Göteborg\, 41566\, Sverige
END:VEVENT
BEGIN:VEVENT
DTSTART;TZID=Europe/Stockholm:20231019T100000
DTEND;TZID=Europe/Stockholm:20231019T120000
DTSTAMP:20260422T065044
CREATED:20230927T162436Z
LAST-MODIFIED:20230929T131552Z
UID:1703-1697709600-1697716800@navet.org
SUMMARY:Kvinnors rättigheter - Samtalsträff med fika för kvinnor i Bergsjön på lätt svenska
DESCRIPTION:Träffarna är gratis och vi bjuder på fika. Vi kommer prata lätt svenska\n(möjlighet kan finnas till enklare tolkning vid behov).\nAlla kvinnor är välkomna! \nVälkommen! Denna dag kommer Nina Darvish att berätta om kvinnors rättigheter och dess koppling till hedersrelaterat våld\, arbetslöshet och psykisk ohälsa! Tillsammans samtalar vi därefter om ämnet och hur man kan få stöd och hjälp i en svår situation\, samt hur man kan stötta och hjälpa andra. \nTillsammans lär vi oss mer om svenska samhället\, regler och lagar med fokus på föräldraskap\, barnuppfostran och kvinnors rättigheter. Du kommer få vara med och bestämma vilka ämnen vi tar upp. \n \nPlats: Merkuriusgatan 4 (Bågskytten)\nTorsdagar kl 10:00-12:00 \n19 okt – Tema Kvinnors rättigheter\nGäst: Nina Darvish\, föreläsare och aktivist med över 10 års erfarenhet av att bekämpa hedersrelaterat våld samt arbete med kvinnor och barn som befinner sig i utsatta situationer \n16 nov – Tema Familjerätt och socialrätt\nGäst: advokat Emma Persson\, specialiserad på socialrätt\, brottsmål\, och migrationsrätt \n14 dec – Tema Föräldrastöd och socialtjänstfrågor\nGäster: personal från barn- och föräldrastöd och socialsekreterare från\nSocialförvaltningen Nordost \nKontakt för mer information:\nJilla\, Kurdiska Kvinnoföreningen i Västra Götaland \nkkfivg@gmail.com /tel: 0739 52 41 60\n\nViktoria\, Navet i Bergsjön \nviktoria.svensson@navet.org /tel: 0766-71 15 33
URL:https://navet.org/event/foraldrakunskap-och-kvinnors-rattigheter-samtalstraff-med-fika-for-kvinnor-i-bergsjon-pa-latt-svenska/
LOCATION:Bågskytten\, Merkuriusgatan 4\, Göteborg\, 41566\, Sverige
END:VEVENT
BEGIN:VEVENT
DTSTART;TZID=Europe/Stockholm:20231015T140000
DTEND;TZID=Europe/Stockholm:20231015T170000
DTSTAMP:20260422T065044
CREATED:20231005T093657Z
LAST-MODIFIED:20231009T121951Z
UID:1830-1697378400-1697389200@navet.org
SUMMARY:FILM OCH SAMTAL: Make Democracy Great Again
DESCRIPTION:Välkommen på filmvisning och samtal med Jan Scherman\, filmskapare och tidigare VD för TV4\, om läget i Sverige\, bristande tillit till det demokratiska systemet och människor som inte känner att de får sina demokratiska rättigheter tillgodosedda.   \nI panelen ingår\nJan Scherman\, filmskapare\nKhalid Mohammed\, XO Foundation\nZeinab El-Saneh\, Folkets Hus Hammarkullen\nSamtalet leds av Ellie Al-Kahwati\, Sakkunig Amnesty International\nOm filmen: “Hur länge lever demokratin” hade premiär i september och är en uppföljning till Schermans hyllade serie ”Hotet mot demokratin” som tidigare sänts på SVT. Scherman tar sin utgångspunkt i oro över att världens demokratier raseras när han i sin dokumentär undersöker frågor om det demokratiska klimatet i Sverige. Filmen skildrar vad som händer idag i Sverige – en av världens starkaste demokratier\, men där hat\, hot och misstroende håller på att erodera samhörigheten – tillsammans med historiska tillbakablickar och internationella utflykter till England\, Frankrike\, Ungern\, Sydafrika och USA. Scherman möter människor som förlorat hoppet\, men även människor som vigt sina liv åt att kämpa för demokratin – från vardagshjältar\, som sällan får uppmärksamhet\, till några av världens mest inflytelserika personer. \nFilm och samtal arrangeras av Navet i Bergsjön\, ABF Göteborg\, Amnesty\, Rädda barnen och Folkets Hus och Parker.
URL:https://navet.org/event/film-och-samtal-make-democracy-great-again/
LOCATION:Kulturhus Bergsjön\, Bergsjöns kulturhusväg 4c\, Göteborg\, Sverige
END:VEVENT
BEGIN:VEVENT
DTSTART;TZID=Europe/Stockholm:20231007T110000
DTEND;TZID=Europe/Stockholm:20231008T170000
DTSTAMP:20260422T065044
CREATED:20230809T124602Z
LAST-MODIFIED:20230809T125358Z
UID:1338-1696676400-1696784400@navet.org
SUMMARY:Vill du göra communityteater? Workshop med America Vera-Zavala
DESCRIPTION:Lär dig grunderna i att förvandla berättelser till teater\, scener\, film\, dans\, musik\, konst.\n\n7 oktober kl 11.00-16.00\n8 oktober kl 11.00-17.00\n\nPlats: Kulturhuset Bergsjön\, Stora salen\nVälkommen till workshop!\nUnder två dagar får du tillsammans med en grupp lära dig grunderna i att göra en teater utifrån dina erfarenheter. Tema för helgen är islamofobi och leds av teatermakaren America Vera-Zavala. \nDu bär runt på en viktig berättelse\, du är en viktig person som inte syns och inte märks i det offentliga samtalet. Du blir omtalad istället för tilltalad. Teatern kan inte ändra på allt men på något. Men hur gör man då? \nVad ska man tänka på när man gör intervjuer? Hur skriver man en teaterscen? Vad är dramaturgi? Vad är regi? Vad krävs det egentligen för att sätta upp en pjäs? \nSteg för steg under två dagar lär vi oss grunderna tillsammans och tankar också om vilka berättelser som borde få ”komma upp på scen”. \nKursen är gratis! Anmäl dig till hanna.jansson@navet.org senast 27 september. Åldersgräns 15 år. OBS! Begränsat antal platser! \nAMERICA VERA-ZAVALA är dramatiker\, regissör\, aktivist och författare. 2016 gjorde hon pjäsen Svenska Hijabis som finns filmatiserad på UR play och 2020 kom hon ut med boken Svartskalle. Hon blev tidigt känd som politisk aktivist inom rörelsen för global rättvisa och har skrivit flera böcker om demokrati och globalisering. Hon debuterade som dramatiker i Lars Noréns projekt Den polske rörmokaren\, med Concha Tu Madre en pjäs om papperslösa arbetare. Hon är nu verksamhetsledare på Gottsunda Dans & Teater. \nWorkshopen är ett samarbete mellan Navet i Bergsjön\, Kulturhus Bergsjön\, America Vera-Zavala och ABF\, samt en del av paraplyprojektet Kulturstråket – ett samverkansprojekt mellan Navet\, Bergsjön 2031\, Higab\, GöteborgsLokaler\, Familjebostäder och Göteborg Stads Kulturförvaltning.
URL:https://navet.org/event/vill-du-gora-communityteater/
LOCATION:Kulturhus Bergsjön\, Bergsjöns kulturhusväg 4c\, Göteborg\, Sverige
END:VEVENT
BEGIN:VEVENT
DTSTART;TZID=Europe/Stockholm:20231005T100000
DTEND;TZID=Europe/Stockholm:20231005T120000
DTSTAMP:20260422T065044
CREATED:20230926T081150Z
LAST-MODIFIED:20230927T162839Z
UID:1662-1696500000-1696507200@navet.org
SUMMARY:Arbetslivsförberedande kunskap - Samtalsträff med fika för kvinnor i Bergsjön på lätt svenska
DESCRIPTION:Träffarna är gratis och vi bjuder på fika. Vi kommer prata lätt svenska\n(möjlighet kan finnas till enklare tolkning vid behov).\nAlla kvinnor är välkomna! \nDatum: Torsdag 5 oktober\nTid: kl 10.00-12.00\nPlats: Merkuriusgatan 4 (Bågskytten) \nVälkommen till vårt första tillfälle då vi får besök av\nFramtidshubben! \nVälkommen att komma och samtala om vad som krävs för att komma in på arbetsmarknaden och vikten av en egen försörjning. Hur stärker man sin kunskap i det svenska språket och vad gör man när SFI inte räcker till? Vi bjuder in experter som berättar hur man kan gå tillväga och vad man ska tänka på när man söker ett arbete eller ska gå på en anställningsintervju. Tillsammans lär vi oss mer om det svenska samhället med fokus på arbetsmarknaden och hur man kan skapa en egen försörjning. \nPlats: Merkuriusgatan 4 (Bågskytten)\nTorsdagar kl 10:00-12:00 \n5 okt: Arbetslivsförberedande kunskap Gäst: Framtidshubben \n19 okt: Tema kvinnors rättigheter \n16 nov – Tema Familjerätt och socialrätt\nGäst: advokat Emma Persson\, specialiserad på socialrätt\, brottsmål\, och migrationsrätt \n14 dec – Tema föräldrastöd och socialtjänstfrågor\nGäster: personal från barn- och föräldrastöd och socialsekreterare från\nSocialförvaltningen Nordost \nKontakt för mer information:\nJilla\, Kurdiska Kvinnoföreningen i Västra Götaland \nkkfivg@gmail.com /tel: 0739 52 41 60\n\nViktoria\, Navet i Bergsjön \nviktoria.svensson@navet.org /tel: 0766-71 15 33
URL:https://navet.org/event/arbetslivsforberedande-kunskap-samtalstraff-med-fika-for-kvinnor-i-bergsjon-pa-latt-svenska/
LOCATION:Bågskytten\, Merkuriusgatan 4\, Göteborg\, 41566\, Sverige
END:VEVENT
BEGIN:VEVENT
DTSTART;TZID=Europe/Stockholm:20230921T170000
DTEND;TZID=Europe/Stockholm:20230921T190000
DTSTAMP:20260422T065044
CREATED:20230907T091417Z
LAST-MODIFIED:20230907T091417Z
UID:1388-1695315600-1695322800@navet.org
SUMMARY:STUDIEBESÖK HOS KULTURFÖRVALTNINGEN - info om bidrag\, träffa handläggare och få kunskap om hur det hela hänger ihop
DESCRIPTION:Datum: 21 sep   \nTid: 17.00-19.00  \nPlats: Östra Hamngatan 16 \nVälkommen med på studiebesök i Kultur-Göteborg. Navet kommer att göra ett par studiebesök till olika kultur-ställen i Göteborg under hösten\, för att vi alla ska få lära oss mer om vilka vägar vi kan gå för att hitta bra samarbeten och finansiering till allt vi föreningar och konstnärer m.fl. vill göra. Och också så klart bidra med vår kunskap till den vi besöker – glöm inte att vi i Bergsjön har nycklar som andra behöver. \nDenna gång ska vi alltså besöka kulturförvaltningen som både har möjlighet att ge stöd till kulturprojekt och är den del av kommunen som har hand om Göteborgs stora kulturinstitutioner. Ett perfekt ställe för att börja utforska hur det där med kultur organiseras i vår stad – vem kan svara på vilka frågor? \nVi träffas för gemensam avfärd vid Rymdtorget hållplats kl 16.30\, eller om man så vill\, utanför kulturförvaltningens kontor\, Östra Hamngatan 16\, kl 17.00. \nKontakt för mer info: Hanna 0766-711 480\, hanna.jansson@navet.org   \nTräffen arrangeras av Navet i Bergsjön i samarbete med ABF och Kulturförvaltningen Göteborg Stad
URL:https://navet.org/event/studiebesok-hos-kulturforvaltningen-info-om-bidrag-traffa-handlaggare-och-fa-kunskap-om-hur-det-hela-hanger-ihop/
END:VEVENT
BEGIN:VEVENT
DTSTART;TZID=Europe/Stockholm:20230915T173000
DTEND;TZID=Europe/Stockholm:20230915T193000
DTSTAMP:20260422T065044
CREATED:20230809T121133Z
LAST-MODIFIED:20230912T083215Z
UID:1317-1694799000-1694806200@navet.org
SUMMARY:Var är papporna? Föreläsning av och med Alexandra Pascalidou
DESCRIPTION:Datum: 15 september \nTid: 17.30 \nPlats: Kulturhus Bergsjön\, Stora Salen \nEfter succén med Augustnominerade boken Mammorna återkommer nu Alexandra Pascalidou med en ny bok och föreläsningsturné om dem som alla letar efter och undrar över – de frånvarande fäderna.  \nVart Alexandra än talade om Mammorna fick hon alltid samma fråga: Men var är papporna? I september 2023 ger sig Alexandra ut på en föreläsningsturné om männen och papporna som hamnar mitt i de personliga och politiska slagfälten i en polariserad och polemisk tid. Pappor som försummat eller förlorat sina barn. De som stannade och de som stack. Pappor som spenderat mer tid på gator och anstalter än med sin egen avkomma. Pappor som får förklara våldet. Men också föredömliga fäder som nattar sina ungar och huttrar på fotbollsträningar i minusgrader.  \nMed på just detta arrangemang är även Shahab Ahmadian\, ordförande i organisationen MÄN\, som är en av de pappor som Alexandra intervjuat. \nFöreläsningsturnén presenteras av Folkets Hus och Parker. \nAlexandra Pascalidou är en flerfaldigt prisbelönt journalist\, författare och programledare i radio och TV och utnämnd till Årets Talare/Moderator 2018. Hennes kamp för jämlikhet och jämställdhet\, mångfald och mänskliga rättigheter löper som en röd tråd genom allt hon gör – från tv och teater till hennes kritikerrosade och prisade böcker.  \nArrangemanget är ett samarbete mellan Navet i Bergsjön\, Bergsjön Studiecenter Läxhjälp och deras projekt Pappasamverkan\, Kulturhus Bergsjön\, Folkets Hus och Parker samt Akademibokhandeln. Samt är en del av paraplyprojektet Kulturstråket som sker i samverkan  med Bergsjön 2031\, Familjebostäder\, Higab\, GöteborgsLokaler och Göteborg stads kulturförvaltning. \nSamverkan är mäktigt!
URL:https://navet.org/event/var-ar-papporna/
LOCATION:Kulturhus Bergsjön\, Bergsjöns kulturhusväg 4c\, Göteborg\, Sverige
END:VEVENT
BEGIN:VEVENT
DTSTART;TZID=Europe/Stockholm:20230903T130000
DTEND;TZID=Europe/Stockholm:20230903T140000
DTSTAMP:20260422T065044
CREATED:20230815T130240Z
LAST-MODIFIED:20230815T130448Z
UID:1363-1693746000-1693749600@navet.org
SUMMARY:BERGSJÖGALAN 2023 - en gala av Bergsjön för Bergsjön
DESCRIPTION:Välkommen till Bergsjögalan 2023!\nDatum: 3 septemder \nTid: 13.00 \nPlats: Kulturhuset\, Stora Salen \nBergsjögalan är en gala av Bergsjön för Bergsjön för att uppmärksamma och erkänna många av de fantastiska personer\, organisationer och verksamheter som finns i området. \nAlla kan nominera och de som nomineras ska vara verksamma i\, bo i eller på något märkbart sätt ha en koppling till Bergsjön. \nNominera senast 27 augusti 2023! \nLäs mer och nominera på Bergsjögalans hemsida: bergsjogalan.se/ \n \nFölj Bergsjögalan på sociala medier: facebook.com/bergsjogalan
URL:https://navet.org/event/bergsjogalan-2023/
LOCATION:Kulturhus Bergsjön\, Bergsjöns kulturhusväg 4c\, Göteborg\, Sverige
END:VEVENT
BEGIN:VEVENT
DTSTART;TZID=Europe/Stockholm:20230820T130000
DTEND;TZID=Europe/Stockholm:20230820T133000
DTSTAMP:20260422T065044
CREATED:20230809T123207Z
LAST-MODIFIED:20230809T125215Z
UID:1311-1692536400-1692538200@navet.org
SUMMARY:Välkommen till premiär av dokumentärfilmen Vägen till kulturhuset del 2\, en film om Bergsjöns stora engagemang
DESCRIPTION:Foto: Amanda Arnborg \nDatum: 20 augusti\nTid: 13.00-13.30\nPlats: Kulturhuset Bergsjön\, Stora Salen\n\nNär gamla kulturhuset i Bergsjön revs väcktes en våg av gräsrotsengagemang till liv. Lokala föreningar\, boende och kulturutövare kämpade för ett nytt kulturhus. Denna dokumentär handlar om engagemanget för Kulturhuset Bergsjön. \nFilmen är gjord av Nasrin Pakkho Film på uppdrag av föreningen Navet i Bergsjön. Filmen Vägen till Kulturhuset är en dokumentär i två delar. I denna film\, del 2\, ryms kulturhusets invigning och den första tiden där vi ser hur Göteborgs Stad och ideella jobbar tillsammans för att bjuda in och skapa aktiviteter och kultur. Men det är också en film som blickar framåt och ställer frågan om hur samarbetet mellan parterna ska fortgå. Det är med stor stolthet denna film visar Bergsjöns starka engagemang\, drivkraft och inte minst konstnärliga och kulturella kompetens. \nProjektet är den del av föreningen Navets paraplyprojekt Kulturstråket som genomförs i samarbete med eldsjälar\, kulturförvaltningen och fastighetsägarna Bergsjön 2031\, Higab\, GöteborgsLokaler och Familjebostäder. \n\nRegissör: Nasrin Pakkho \nProducent: Navet & Nasrin Pakkho film \nLängd: 29 min \nSpråk: Svenska \nTextat: På svenska \nFormat: DCP & Mov \n  \nKulturhuset Bergsjön firar 1 år! \nMed stor glädje och stolthet bjuder Kulturhuset Bergsjön in hela Göteborg till 1-årskalas! Söndagen den 20 augusti firar vi både inne i kulturhuset och utomhus i den nya parken. Förbered dig på en dag full av kultur och spännande aktiviteter!
URL:https://navet.org/event/premiar-vagen-till-kulturhuset-del-2-dokumentarfilm/
LOCATION:Kulturhus Bergsjön\, Bergsjöns kulturhusväg 4c\, Göteborg\, Sverige
END:VEVENT
BEGIN:VEVENT
DTSTART;TZID=Europe/Stockholm:20230526T080000
DTEND;TZID=Europe/Stockholm:20230526T170000
DTSTAMP:20260422T065044
CREATED:20230510T071928Z
LAST-MODIFIED:20230510T071928Z
UID:596-1685088000-1685120400@navet.org
SUMMARY:Nytt evenemang
DESCRIPTION:Här kommer info
URL:https://navet.org/event/nytt-evenemang/
CATEGORIES:Evenemang
END:VEVENT
END:VCALENDAR