BEGIN:VCALENDAR
VERSION:2.0
PRODID:-//Navet i Bergsjön - ECPv6.15.20//NONSGML v1.0//EN
CALSCALE:GREGORIAN
METHOD:PUBLISH
X-ORIGINAL-URL:https://navet.org
X-WR-CALDESC:Händelser för Navet i Bergsjön
REFRESH-INTERVAL;VALUE=DURATION:PT1H
X-Robots-Tag:noindex
X-PUBLISHED-TTL:PT1H
BEGIN:VTIMEZONE
TZID:Europe/Stockholm
BEGIN:DAYLIGHT
TZOFFSETFROM:+0100
TZOFFSETTO:+0200
TZNAME:CEST
DTSTART:20230326T010000
END:DAYLIGHT
BEGIN:STANDARD
TZOFFSETFROM:+0200
TZOFFSETTO:+0100
TZNAME:CET
DTSTART:20231029T010000
END:STANDARD
BEGIN:DAYLIGHT
TZOFFSETFROM:+0100
TZOFFSETTO:+0200
TZNAME:CEST
DTSTART:20240331T010000
END:DAYLIGHT
BEGIN:STANDARD
TZOFFSETFROM:+0200
TZOFFSETTO:+0100
TZNAME:CET
DTSTART:20241027T010000
END:STANDARD
BEGIN:DAYLIGHT
TZOFFSETFROM:+0100
TZOFFSETTO:+0200
TZNAME:CEST
DTSTART:20250330T010000
END:DAYLIGHT
BEGIN:STANDARD
TZOFFSETFROM:+0200
TZOFFSETTO:+0100
TZNAME:CET
DTSTART:20251026T010000
END:STANDARD
END:VTIMEZONE
BEGIN:VEVENT
DTSTART;TZID=Europe/Stockholm:20241204T170000
DTEND;TZID=Europe/Stockholm:20241204T200000
DTSTAMP:20260421T153334
CREATED:20240927T101833Z
LAST-MODIFIED:20241126T131522Z
UID:2667-1733331600-1733342400@navet.org
SUMMARY:STORMÖTE - Kunskapsträff
DESCRIPTION:I våras hade vi ett uppstartsmöte för en process kring ett ”Bergsjöråd”. Alla Bergsjöbor är välkomna. Detta komer att bli ett forum eller process där vi i Bergsjön kan lyfta saker tillsammans. Diskutera ämnen tillsammans eller för att lyfta saker till andra aktörer och beslutsfattare. Den 25 sept la vi en gemensam struktur för mötena framöver samt valde 4 fokusfrågor att zooma in på de närmaste 2 mötena. Kopplat till dessa fokusfrågor finns arbetsgrupper\, kontakta oss om du vill gå med i en arbetsgrupp! \n\n\n\nFokusfrågor: \n\n\n\n\nSkola\, förskola och relationen mellan föräldrar och samhället (tex socialtjänst)\n\n\n\nSänk hyrorna\n\n\n\nAktiviteter för barn\n\n\n\nGemenskap\, mötesplatser\, aktiviteter för seniorer\n\n\n\n\n \n\n\n\n \n\n\n\nPå mötet 4 dec kommer vi att lära oss mer om hur vi påverkar inom våra olika fokusfrågor. \n\n\n\nTid: \n\n\n\nMat 17.00-17.45 \n\n\n\nMötet 17.45-20.00 \n\n\n\n \n\n\n\nPlats: Information kommer inom kort \n\n\n\nAlla Bergsjöbor och Bergsjöföreningar välkomna! \n\n\n\nMaila till viktoria@navet.org och anmäl dig\, \n\n\n\ndu kan också höra av dig för att få anteckningarna från senaste mötet.
URL:https://navet.org/event/stormote-kunskapstraff/
END:VEVENT
BEGIN:VEVENT
DTSTART;TZID=Europe/Stockholm:20241203T163000
DTEND;TZID=Europe/Stockholm:20241203T184500
DTSTAMP:20260421T153334
CREATED:20241011T124616Z
LAST-MODIFIED:20241011T124617Z
UID:2876-1733243400-1733251500@navet.org
SUMMARY:Studiecirkel: ÅTERBRUKA KLÄDER - gör om och skapa nytt
DESCRIPTION:Plats: Rymdtorget 4 \n\n\n\nStart 8 okt kl 16.30-18.45 därefter varje tisdag samma tid!
URL:https://navet.org/event/studiecirkel-aterbruka-klader-gor-om-och-skapa-nytt-8/
END:VEVENT
BEGIN:VEVENT
DTSTART;TZID=Europe/Stockholm:20241128T163000
DTEND;TZID=Europe/Stockholm:20241128T184500
DTSTAMP:20260421T153334
CREATED:20241011T134743Z
LAST-MODIFIED:20241011T134744Z
UID:2894-1732811400-1732819500@navet.org
SUMMARY:Studiecirkel: HANTVERK MED TEXTIL - olika tekniker
DESCRIPTION:Plats: Rymdtorget 4 \n\n\n\nStart 10 okt kl 16.30-18.45\, därefter varje torsdag samma tid! \n\n\n\nAnmäl dig till Indira.sojtaric@navet.org
URL:https://navet.org/event/studiecirkel-hantverk-med-textil-olika-tekniker-8/
END:VEVENT
BEGIN:VEVENT
DTSTART;TZID=Europe/Stockholm:20241126T163000
DTEND;TZID=Europe/Stockholm:20241126T184500
DTSTAMP:20260421T153334
CREATED:20241011T124507Z
LAST-MODIFIED:20241011T124508Z
UID:2874-1732638600-1732646700@navet.org
SUMMARY:Studiecirkel: ÅTERBRUKA KLÄDER - gör om och skapa nytt
DESCRIPTION:Plats: Rymdtorget 4 \n\n\n\nStart 8 okt kl 16.30-18.45 därefter varje tisdag samma tid!
URL:https://navet.org/event/studiecirkel-aterbruka-klader-gor-om-och-skapa-nytt-7/
END:VEVENT
BEGIN:VEVENT
DTSTART;TZID=Europe/Stockholm:20241126T160000
DTEND;TZID=Europe/Stockholm:20241126T190000
DTSTAMP:20260421T153334
CREATED:20240927T074115Z
LAST-MODIFIED:20241024T124422Z
UID:2631-1732636800-1732647600@navet.org
SUMMARY:Öppen teater-praktik med BBB
DESCRIPTION:Vi är en grupp som övar och testar övningar tillsammans. Vi använder olika genres (fysisk teater\, clown\, berättande\, mask\, impro\, forumteater\, skrivande) och turas om att leda övningar. BBB står för Backa\, Biskop\, Bergsjön eftersom de mest fasta deltagarna just nu kommer från föreningar i dessa tre stadsdelar\, men alla är välkomna! Under höstterminen 2024 huserar vi hos Meeting Plays i Biskopsgården. Undantaget är den 3 sept då vi är i kollektivhuset Stacken på Teleskopgatan 2 och 10 dec då vi är på Kulturhuset Bergsjön(Lilla Salen). \n\n\n\nKontakt: hanna.jansson@navet.org \n\n\n\nTräffarna kommer att vara tisdagar jämn vecka kl 16.00-19.00\, vanligtvis i Biskopsgården hos Meeting Plays(Vårväderstoget 2). Undantag 3 september och 10 december! \n\n\n\n \n\n\n\nDatum: \n\n\n\n3 sept \n\n\n\n17 sept \n\n\n\n1 okt \n\n\n\n15 okt \n\n\n\n29 okt \n\n\n\n12 nov \n\n\n\n26 nov \n\n\n\n10 dec
URL:https://navet.org/event/oppen-teater-praktik-med-bbb-6/
END:VEVENT
BEGIN:VEVENT
DTSTART;TZID=Europe/Stockholm:20241121T163000
DTEND;TZID=Europe/Stockholm:20241121T184500
DTSTAMP:20260421T153334
CREATED:20241011T134619Z
LAST-MODIFIED:20241011T135016Z
UID:2890-1732206600-1732214700@navet.org
SUMMARY:Studiecirkel: HANTVERK MED TEXTIL - olika tekniker
DESCRIPTION:Plats: Rymdtorget 4 \n\n\n\nStart 10 okt kl 16.30-18.45\, därefter varje torsdag samma tid! \n\n\n\nAnmäl dig till Indira.sojtaric@navet.org
URL:https://navet.org/event/studiecirkel-hantverk-med-textil-olika-tekniker-6/
END:VEVENT
BEGIN:VEVENT
DTSTART;TZID=Europe/Stockholm:20241119T163000
DTEND;TZID=Europe/Stockholm:20241119T184500
DTSTAMP:20260421T153334
CREATED:20241011T115309Z
LAST-MODIFIED:20241011T115311Z
UID:2872-1732033800-1732041900@navet.org
SUMMARY:Studiecirkel: ÅTERBRUKA KLÄDER - gör om och skapa nytt
DESCRIPTION:Plats: Rymdtorget 4 \n\n\n\nStart 8 okt kl 16.30-18.45 därefter varje tisdag samma tid!
URL:https://navet.org/event/studiecirkel-aterbruka-klader-gor-om-och-skapa-nytt-6/
END:VEVENT
BEGIN:VEVENT
DTSTART;TZID=Europe/Stockholm:20241114T163000
DTEND;TZID=Europe/Stockholm:20241114T184500
DTSTAMP:20260421T153334
CREATED:20241011T134528Z
LAST-MODIFIED:20241011T135059Z
UID:2888-1731601800-1731609900@navet.org
SUMMARY:Studiecirkel: HANTVERK MED TEXTIL - olika tekniker
DESCRIPTION:Plats: Rymdtorget 4 \n\n\n\nStart 10 okt kl 16.30-18.45\, därefter varje torsdag samma tid! \n\n\n\nAnmäl dig till Indira.sojtaric@navet.org
URL:https://navet.org/event/studiecirkel-hantverk-med-textil-olika-tekniker-5/
END:VEVENT
BEGIN:VEVENT
DTSTART;TZID=Europe/Stockholm:20241113T160000
DTEND;TZID=Europe/Stockholm:20241113T180000
DTSTAMP:20260421T153334
CREATED:20241105T073214Z
LAST-MODIFIED:20241105T073215Z
UID:3019-1731513600-1731520800@navet.org
SUMMARY:Fondsökarträff - vill du ha hjälp med att söka fonder?
DESCRIPTION:Vill du ha hjälp med att söka fonder? Välkommen på fondsökarträff med medborgarkontoret och Navet i Bergsjön.  \n\n\n\nPlats: Bergsjöskolan\, Rymdtorget 6 \n\n\n\nDatum: Onsdag 13 november \n\n\n\nTid: Kl 16-18 \n\n\n\nDu kan få hjälp med att söka fondmedel genom att förstå vilka underlag du behöver och hur du fyller i ansökan. Vi ses i caféet på Bergsjöskolan!
URL:https://navet.org/event/fondsokartraff-vill-du-ha-hjalp-med-att-soka-fonder/
LOCATION:Bergsjöskolan\, Rymdtorget 6
END:VEVENT
BEGIN:VEVENT
DTSTART;TZID=Europe/Stockholm:20241112T163000
DTEND;TZID=Europe/Stockholm:20241112T184500
DTSTAMP:20260421T153334
CREATED:20241011T115202Z
LAST-MODIFIED:20241011T115203Z
UID:2870-1731429000-1731437100@navet.org
SUMMARY:Studiecirkel: ÅTERBRUKA KLÄDER - gör om och skapa nytt
DESCRIPTION:Plats: Rymdtorget 4 \n\n\n\nStart 8 okt kl 16.30-18.45 därefter varje tisdag samma tid!
URL:https://navet.org/event/studiecirkel-aterbruka-klader-gor-om-och-skapa-nytt-5/
END:VEVENT
BEGIN:VEVENT
DTSTART;TZID=Europe/Stockholm:20241112T160000
DTEND;TZID=Europe/Stockholm:20241112T190000
DTSTAMP:20260421T153334
CREATED:20240927T073957Z
LAST-MODIFIED:20241024T124459Z
UID:2628-1731427200-1731438000@navet.org
SUMMARY:Öppen teater-praktik med BBB
DESCRIPTION:Vi är en grupp som övar och testar övningar tillsammans. Vi använder olika genres (fysisk teater\, clown\, berättande\, mask\, impro\, forumteater\, skrivande) och turas om att leda övningar. BBB står för Backa\, Biskop\, Bergsjön eftersom de mest fasta deltagarna just nu kommer från föreningar i dessa tre stadsdelar\, men alla är välkomna! Under höstterminen 2024 huserar vi hos Meeting Plays i Biskopsgården. Undantaget är den 3 sept då vi är i kollektivhuset Stacken på Teleskopgatan 2 och 10 dec då vi är på Kulturhuset Bergsjön(Lilla Salen). \n\n\n\nKontakt: hanna.jansson@navet.org \n\n\n\nTräffarna kommer att vara tisdagar jämn vecka kl 16.00-19.00\, vanligtvis i Biskopsgården hos Meeting Plays(Vårväderstoget 2). Undantag 3 september och 10 december! \n\n\n\n \n\n\n\nDatum: \n\n\n\n3 sept \n\n\n\n17 sept \n\n\n\n1 okt \n\n\n\n15 okt \n\n\n\n29 okt \n\n\n\n12 nov \n\n\n\n26 nov \n\n\n\n10 dec
URL:https://navet.org/event/oppen-teater-praktik-med-bbb-duplicera/
END:VEVENT
BEGIN:VEVENT
DTSTART;TZID=Europe/Stockholm:20241107T163000
DTEND;TZID=Europe/Stockholm:20241107T184500
DTSTAMP:20260421T153334
CREATED:20241011T134449Z
LAST-MODIFIED:20241011T135139Z
UID:2886-1730997000-1731005100@navet.org
SUMMARY:Studiecirkel: HANTVERK MED TEXTIL - olika tekniker
DESCRIPTION:Plats: Rymdtorget 4 \n\n\n\nStart 10 okt kl 16.30-18.45\, därefter varje torsdag samma tid! \n\n\n\nAnmäl dig till Indira.sojtaric@navet.org
URL:https://navet.org/event/studiecirkel-hantverk-med-textil-olika-tekniker-4/
END:VEVENT
BEGIN:VEVENT
DTSTART;TZID=Europe/Stockholm:20241105T163000
DTEND;TZID=Europe/Stockholm:20241105T184500
DTSTAMP:20260421T153334
CREATED:20241011T114854Z
LAST-MODIFIED:20241011T114855Z
UID:2868-1730824200-1730832300@navet.org
SUMMARY:Studiecirkel: ÅTERBRUKA KLÄDER - gör om och skapa nytt
DESCRIPTION:Plats: Rymdtorget 4 \n\n\n\nStart 8 okt kl 16.30-18.45 därefter varje tisdag samma tid!
URL:https://navet.org/event/studiecirkel-aterbruka-klader-gor-om-och-skapa-nytt-4/
END:VEVENT
BEGIN:VEVENT
DTSTART;TZID=Europe/Stockholm:20241031T163000
DTEND;TZID=Europe/Stockholm:20241031T184500
DTSTAMP:20260421T153334
CREATED:20241011T134408Z
LAST-MODIFIED:20241011T134409Z
UID:2884-1730392200-1730400300@navet.org
SUMMARY:Studiecirkel: HANTVERK MED TEXTIL - olika tekniker
DESCRIPTION:Plats: Rymdtorget 4 \n\n\n\nStart 10 okt kl 16.30-18.45\, därefter varje torsdag samma tid! \n\n\n\nAnmäl dig till Indira.sojtaric@navet.org
URL:https://navet.org/event/studiecirkel-hantverk-med-textil-olika-tekniker-3/
END:VEVENT
BEGIN:VEVENT
DTSTART;TZID=Europe/Stockholm:20241030T170000
DTEND;TZID=Europe/Stockholm:20241030T190000
DTSTAMP:20260421T153334
CREATED:20240927T095825Z
LAST-MODIFIED:20240927T095826Z
UID:2664-1730307600-1730314800@navet.org
SUMMARY:Öppet på Navet
DESCRIPTION:Varje onsdag är du välkommen till oss på Navet för att snacka\, höra mer om vad vi gör\, bolla idéer eller få stöd med ett projekt eller projektansökan av oss! \n\n\n\nVälkommen – vi har satt på kaffet! \n\n\n\n🙂
URL:https://navet.org/event/oppet-pa-navet-8/
END:VEVENT
BEGIN:VEVENT
DTSTART;TZID=Europe/Stockholm:20241029T163000
DTEND;TZID=Europe/Stockholm:20241029T184500
DTSTAMP:20260421T153334
CREATED:20241011T114419Z
LAST-MODIFIED:20241011T114420Z
UID:2864-1730219400-1730227500@navet.org
SUMMARY:Studiecirkel: ÅTERBRUKA KLÄDER - gör om och skapa nytt
DESCRIPTION:Plats: Rymdtorget 4 \n\n\n\nStart 8 okt kl 16.30-18.45 därefter varje tisdag samma tid!
URL:https://navet.org/event/studiecirkel-aterbruka-klader-gor-om-och-skapa-nytt-3/
END:VEVENT
BEGIN:VEVENT
DTSTART;TZID=Europe/Stockholm:20241029T160000
DTEND;TZID=Europe/Stockholm:20241029T190000
DTSTAMP:20260421T153334
CREATED:20240927T073901Z
LAST-MODIFIED:20241024T124547Z
UID:2626-1730217600-1730228400@navet.org
SUMMARY:Öppen teater-praktik med BBB
DESCRIPTION:Vi är en grupp som övar och testar övningar tillsammans. Vi använder olika genres (fysisk teater\, clown\, berättande\, mask\, impro\, forumteater\, skrivande) och turas om att leda övningar. BBB står för Backa\, Biskop\, Bergsjön eftersom de mest fasta deltagarna just nu kommer från föreningar i dessa tre stadsdelar\, men alla är välkomna! Under höstterminen 2024 huserar vi hos Meeting Plays i Biskopsgården. Undantaget är den 3 sept då vi är i kollektivhuset Stacken på Teleskopgatan 2 och 10 dec då vi är på Kulturhuset Bergsjön(Lilla Salen). \n\n\n\nKontakt: hanna.jansson@navet.org \n\n\n\nTräffarna kommer att vara tisdagar jämn vecka kl 16.00-19.00\, vanligtvis i Biskopsgården hos Meeting Plays(Vårväderstoget 2). Undantag 3 september och 10 december! \n\n\n\n \n\n\n\nDatum: \n\n\n\n3 sept \n\n\n\n17 sept \n\n\n\n1 okt \n\n\n\n15 okt \n\n\n\n29 okt \n\n\n\n12 nov \n\n\n\n26 nov \n\n\n\n10 dec
URL:https://navet.org/event/oppen-teater-praktik-med-bbb-5/
END:VEVENT
BEGIN:VEVENT
DTSTART;TZID=Europe/Stockholm:20241024T163000
DTEND;TZID=Europe/Stockholm:20241024T184500
DTSTAMP:20260421T153334
CREATED:20241011T134328Z
LAST-MODIFIED:20241011T134329Z
UID:2882-1729787400-1729795500@navet.org
SUMMARY:Studiecirkel: HANTVERK MED TEXTIL - olika tekniker
DESCRIPTION:Plats: Rymdtorget 4 \n\n\n\nStart 10 okt kl 16.30-18.45\, därefter varje torsdag samma tid! \n\n\n\nAnmäl dig till Indira.sojtaric@navet.org
URL:https://navet.org/event/studiecirkel-hantverk-med-textil-olika-tekniker-2/
END:VEVENT
BEGIN:VEVENT
DTSTART;TZID=Europe/Stockholm:20241023T170000
DTEND;TZID=Europe/Stockholm:20241023T190000
DTSTAMP:20260421T153334
CREATED:20241017T101540Z
LAST-MODIFIED:20241017T101542Z
UID:2924-1729702800-1729710000@navet.org
SUMMARY:Möte om skola och förskola (+arbetsgrupp skola)
DESCRIPTION:Datum: 23 okt \n\n\n\nTid: 17.00-19.00 \n\n\n\nLokal: HGF Solglimten\, Rymdtorget 3 \n\n\n\nPå mötet kommer vi att besluta om vad vårt nästa steg är i skolfrågan. \n\n\n\nFörklaring \n\n\n\nPå Stormöte för ”Bergsjörådet” bildades 4 arbetsgrupper\, en av dem är tema skolan samt relationen mellan föräldrar och myndigheter (rädsla för socialtjänsten) \n\n\n\nSamtidigt har Navet och BSL under 2024 haft två möten med politiker och tjänstemän om skolan och förskolan\, och ett möte med en forskare. \n\n\n\nDärför kallar jag nu till ett gemensamt möte för att arbetsgruppen från stormötet ska kunna gå in i vår andra grupp. Det är jättebra att vi blir fler som hjälps åt att driva på och lyfta denna problematik för barnen i Bergsjön! \n\n\n\nRing eller maila mig om ni vill veta mer om de olika mötena som varit. \n\n\n\nVälkommen! \n\n\n\nKontakt: hanna@hanna\, 0766-711 480
URL:https://navet.org/event/mote-om-skola-och-forskola-arbetsgrupp-skola/
END:VEVENT
BEGIN:VEVENT
DTSTART;TZID=Europe/Stockholm:20241023T170000
DTEND;TZID=Europe/Stockholm:20241023T190000
DTSTAMP:20260421T153334
CREATED:20241011T143825Z
LAST-MODIFIED:20241011T143826Z
UID:2907-1729702800-1729710000@navet.org
SUMMARY:Upptäck Makerspace på Sandeklevsskolan! (Vecka 42-43)
DESCRIPTION:Under de kommande två veckorna flyttar vi vårt Makerspace till Sandeklevsskolan. Här får du chansen att dyka in i världen av programmering och 3D-skapande\, helt gratis! Det spelar ingen roll om du är nybörjare eller har erfarenhet – alla är välkomna! \n\n\n\n📅 Måndagar: 14/10 & 21/10 \n\n\n\n⏰ Tid: 17:00–19:00 \n\n\n\n📅 Onsdagar: 16/10 & 23/10 \n\n\n\n⏰ Tid: 17:00–19:00 \n\n\n\nKom och träffa oss på Sandeklevsskolan\, Kvadrantgatan 86 för inspirerande workshops och spännande projekt. Missa inte chansen att lära dig något nytt och ha kul tillsammans med oss! \n\n\n\n🔔 Glöm inte att följa oss på Instagram för uppdateringar och mer information!
URL:https://navet.org/event/upptack-makerspace-pa-sandeklevsskolan-vecka-42-43-3/
LOCATION:BSL Siriusgatan\, Siriusgatan 96\, Göteborg
ATTACH;FMTTYPE=image/jpeg:https://navet.org/wp-content/uploads/2024/08/Banner-for-projektet-1600-x-400-px.jpg
END:VEVENT
BEGIN:VEVENT
DTSTART;TZID=Europe/Stockholm:20241023T170000
DTEND;TZID=Europe/Stockholm:20241023T190000
DTSTAMP:20260421T153334
CREATED:20240927T095728Z
LAST-MODIFIED:20240927T095729Z
UID:2662-1729702800-1729710000@navet.org
SUMMARY:Öppet på Navet
DESCRIPTION:Varje onsdag är du välkommen till oss på Navet för att snacka\, höra mer om vad vi gör\, bolla idéer eller få stöd med ett projekt eller projektansökan av oss! \n\n\n\nVälkommen – vi har satt på kaffet! \n\n\n\n🙂
URL:https://navet.org/event/oppet-pa-navet-7/
END:VEVENT
BEGIN:VEVENT
DTSTART;TZID=Europe/Stockholm:20241022T163000
DTEND;TZID=Europe/Stockholm:20241022T184500
DTSTAMP:20260421T153334
CREATED:20241011T114204Z
LAST-MODIFIED:20241011T114205Z
UID:2860-1729614600-1729622700@navet.org
SUMMARY:Studiecirkel: ÅTERBRUKA KLÄDER - gör om och skapa nytt
DESCRIPTION:Plats: Rymdtorget 4 \n\n\n\nStart 8 okt kl 16.30-18.45 därefter varje tisdag samma tid!
URL:https://navet.org/event/studiecirkel-aterbruka-klader-gor-om-och-skapa-nytt-2/
END:VEVENT
BEGIN:VEVENT
DTSTART;TZID=Europe/Stockholm:20241021T173000
DTEND;TZID=Europe/Stockholm:20241021T200000
DTSTAMP:20260421T153334
CREATED:20240927T075420Z
LAST-MODIFIED:20240927T075421Z
UID:2644-1729531800-1729540800@navet.org
SUMMARY:Studiecirkel: Söka finansiering för konst och kulturprojekt
DESCRIPTION:Vill du bli bättre på att söka finansiering för ett kulturprojekt? \n\n\n\nVi träffas 4 gånger under september- oktober och läser finansiärers kriterier\, skriver ansökning och projektbeskrivning\, övar pitch och ger varandra feedback.  \n\n\n\nDeltagandet är kostnadsfritt och riktar sig till dig som vill söka medel för kulturprojekt. Vi välkomnar både föreningar och konstnärer. Vi kommer att dela in oss i grupper så att du får jobba mest med de deltagare som liknar dig mest. \n\n\n\nVi har kontakt med erfarna konstnärer\, finansiärer samt Nätverkstan\, och kommer att boka in expertis till träffarna. Tanken är att vi lär oss saker som kan hjälpa oss både när vi skriver projektansökningar och när vi söker finansiering på andra sätt\, tex samarbeten och sponsring. \n\n\n\nDatum: \n\n\n\n23 september  \n\n\n\n30 september \n\n\n\n14 oktober \n\n\n\n21 oktober \n\n\n\nPlats: Rymdtorget 2 eller 8 – plats beslutas senare \n\n\n\nTid: 17.30-20.00 \n\n\n\nAnmäl dig så fort som möjligt\, men senast 15 september via detta formulär: https://forms.gle/zsdSbcSq9xeGYYUaA \n\n\n\nJu tidigare du anmäler dig desto mer kan vi anpassa innehållet till just DINA behov! \n\n\n\n \n\n\n\nEller maila/smsa till Hanna \n\n\n\nKontakt hanna.jansson@navet.org \n\n\n\n076-671 14 80 \n\n\n\nStudiecirkeln genomförs i samarbete med ABF.
URL:https://navet.org/event/studiecirkel-soka-finansiering-for-konst-och-kulturprojekt-2/
END:VEVENT
BEGIN:VEVENT
DTSTART;TZID=Europe/Stockholm:20241021T173000
DTEND;TZID=Europe/Stockholm:20241021T193000
DTSTAMP:20260421T153334
CREATED:20241011T114540Z
LAST-MODIFIED:20241015T085910Z
UID:2858-1729531800-1729539000@navet.org
SUMMARY:Made in Bergsjön workshop - Hur kan man utveckla sin försäljning och det man tillverkar?
DESCRIPTION:Välkommen till en workshop där man får möjlighet att få kunskap och rådgivning om hur man kan utveckla det man tillverkar och säljer. \n\n\n\nVi kommer att göra en miniutställning där man får visa upp och kolla på varandras saker och produkter/tjänster. De som vill får även berätta om det man gör för varandra och vår gäst och rådgivare. \n\n\n\nVi delar erfarenheter med varandra och samtalar om användbara tips och utmaningar. \n\n\n\nDet finns även möjlighet att få enskild rådgivning där man sitter själv med rådgivaren. Begränsat antal platser. \n\n\n\nTa med dina frågor! \n\n\n\n~* ~*~*~*~*~*~*~*~*~*~*~ \n\n\n\nGÄST OCH RÅDGIVARE: Katarina Karlsson\, hemslöjdskonsulent på Västra Götalandsregionen inom hantverk\, slöjd\, design och konst. Katarina har även stor erfarenhet av entreprenörskap\, försäljning och genomförandet av idéer till verklighet. \n\n\n\nFÖR VEM: Workshopen är öppen för alla intresserade som vill sälja sina egna produkter eller tjänster och som på något sätt bidrar till hållbarhet för människor och miljö. Är du intresserad av att börja sälja men inte kommit igång än är du också varmt välkommen. \n\n\n\nDock är det förtur till rådgivningsplatserna för boende/verksamma i Bergsjön och de som deltog på marknaden Made in Bergsjön – hållbar lokal marknad. \n\n\n\nBAKGRUND: I somras arrangerades för första gången Made in Bergsjön – hållbar lokal marknad. Detta är en fortsättning på detta forum där lokala försäljare träffas för att utveckla sina verksamheter i en trevlig gemenskap. På marknaden såldes saker som hantverk\, grönsaker\, mat\, konst\, textil\, återbruk\, kläder\, hudprodukter m.m. \n\n\n\nVi bjuder på matig och söt fika! \n\n\n\n~* ~*~*~*~*~*~*~*~*~*~*~ \n\n\n\nTID: Måndag 21 oktober kl.17:30-19:30PLATS: Kulturhus Bergsjön \n\n\n\nANMÄLAN: Anmäl dig genom att mejla till malin@navet.org eller sms:a 0766 711 499 senast fredag 18/10. Skriv om du önskar enskild rådgivning. \n\n\n\nARRANGÖR: Navet i Bergsjön i samarbete med Kulturhus Bergsjön \n\n\n\nLäs mer om Lokal hållbar ekonomi Bergsjön. \n\n\n\n~* ~*~*~*~*~*~*~*~*~*~*~ \n\n\n\nNavets arbete med att stärka en lokal hållbar ekonomi stöttas av Leader längs Göta älv och Europeiska jordbruksfonden för landsbygdsutveckling.
URL:https://navet.org/event/made-in-bergsjon-workshop-hur-kan-man-utveckla-sin-forsaljning-och-det-man-tillverkar/
ATTACH;FMTTYPE=image/jpeg:https://navet.org/wp-content/uploads/2024/10/20240831_150448-scaled.jpg
END:VEVENT
BEGIN:VEVENT
DTSTART;TZID=Europe/Stockholm:20241021T170000
DTEND;TZID=Europe/Stockholm:20241021T190000
DTSTAMP:20260421T153334
CREATED:20241011T143736Z
LAST-MODIFIED:20241011T143737Z
UID:2905-1729530000-1729537200@navet.org
SUMMARY:Upptäck Makerspace på Sandeklevsskolan! (Vecka 42-43)
DESCRIPTION:Under de kommande två veckorna flyttar vi vårt Makerspace till Sandeklevsskolan. Här får du chansen att dyka in i världen av programmering och 3D-skapande\, helt gratis! Det spelar ingen roll om du är nybörjare eller har erfarenhet – alla är välkomna! \n\n\n\n📅 Måndagar: 14/10 & 21/10 \n\n\n\n⏰ Tid: 17:00–19:00 \n\n\n\n📅 Onsdagar: 16/10 & 23/10 \n\n\n\n⏰ Tid: 17:00–19:00 \n\n\n\nKom och träffa oss på Sandeklevsskolan\, Kvadrantgatan 86 för inspirerande workshops och spännande projekt. Missa inte chansen att lära dig något nytt och ha kul tillsammans med oss! \n\n\n\n🔔 Glöm inte att följa oss på Instagram för uppdateringar och mer information!
URL:https://navet.org/event/upptack-makerspace-pa-sandeklevsskolan-vecka-42-43-2/
LOCATION:BSL Siriusgatan\, Siriusgatan 96\, Göteborg
ATTACH;FMTTYPE=image/jpeg:https://navet.org/wp-content/uploads/2024/08/Banner-for-projektet-1600-x-400-px.jpg
END:VEVENT
BEGIN:VEVENT
DTSTART;TZID=Europe/Stockholm:20241017T163000
DTEND;TZID=Europe/Stockholm:20241017T184500
DTSTAMP:20260421T153334
CREATED:20241011T133955Z
LAST-MODIFIED:20241011T133956Z
UID:2880-1729182600-1729190700@navet.org
SUMMARY:Studiecirkel: HANTVERK MED TEXTIL - olika tekniker
DESCRIPTION:Plats: Rymdtorget 4 \n\n\n\nStart 10 okt kl 16.30-18.45\, därefter varje torsdag samma tid! \n\n\n\nAnmäl dig till Indira.sojtaric@navet.org
URL:https://navet.org/event/studiecirkel-hantverk-med-textil-olika-tekniker/
END:VEVENT
BEGIN:VEVENT
DTSTART;TZID=Europe/Stockholm:20241016T170000
DTEND;TZID=Europe/Stockholm:20241016T190000
DTSTAMP:20260421T153334
CREATED:20241011T143641Z
LAST-MODIFIED:20241011T143642Z
UID:2903-1729098000-1729105200@navet.org
SUMMARY:Upptäck Makerspace på Sandeklevsskolan! (Vecka 42-43)
DESCRIPTION:Under de kommande två veckorna flyttar vi vårt Makerspace till Sandeklevsskolan. Här får du chansen att dyka in i världen av programmering och 3D-skapande\, helt gratis! Det spelar ingen roll om du är nybörjare eller har erfarenhet – alla är välkomna! \n\n\n\n📅 Måndagar: 14/10 & 21/10 \n\n\n\n⏰ Tid: 17:00–19:00 \n\n\n\n📅 Onsdagar: 16/10 & 23/10 \n\n\n\n⏰ Tid: 17:00–19:00 \n\n\n\nKom och träffa oss på Sandeklevsskolan\, Kvadrantgatan 86 för inspirerande workshops och spännande projekt. Missa inte chansen att lära dig något nytt och ha kul tillsammans med oss! \n\n\n\n🔔 Glöm inte att följa oss på Instagram för uppdateringar och mer information!
URL:https://navet.org/event/upptack-makerspace-pa-sandeklevsskolan-vecka-42-43/
LOCATION:BSL Siriusgatan\, Siriusgatan 96\, Göteborg
ATTACH;FMTTYPE=image/jpeg:https://navet.org/wp-content/uploads/2024/08/Banner-for-projektet-1600-x-400-px.jpg
END:VEVENT
BEGIN:VEVENT
DTSTART;TZID=Europe/Stockholm:20241016T170000
DTEND;TZID=Europe/Stockholm:20241016T190000
DTSTAMP:20260421T153334
CREATED:20240927T095657Z
LAST-MODIFIED:20240927T095658Z
UID:2660-1729098000-1729105200@navet.org
SUMMARY:Öppet på Navet
DESCRIPTION:Varje onsdag är du välkommen till oss på Navet för att snacka\, höra mer om vad vi gör\, bolla idéer eller få stöd med ett projekt eller projektansökan av oss! \n\n\n\nVälkommen – vi har satt på kaffet! \n\n\n\n🙂
URL:https://navet.org/event/oppet-pa-navet-6/
END:VEVENT
BEGIN:VEVENT
DTSTART;TZID=Europe/Stockholm:20241015T163000
DTEND;TZID=Europe/Stockholm:20241015T184500
DTSTAMP:20260421T153334
CREATED:20241003T134513Z
LAST-MODIFIED:20241011T113905Z
UID:2687-1729009800-1729017900@navet.org
SUMMARY:Studiecirkel: ÅTERBRUKA KLÄDER - gör om och skapa nytt
DESCRIPTION:Plats: Rymdtorget 4 \n\n\n\nStart 8 okt kl 16.30-18.45 därefter varje tisdag samma tid!
URL:https://navet.org/event/studiecirkel-aterbruka-klader-gor-om-och-skapa-nytt-duplicera/
END:VEVENT
BEGIN:VEVENT
DTSTART;TZID=Europe/Stockholm:20241015T160000
DTEND;TZID=Europe/Stockholm:20241015T190000
DTSTAMP:20260421T153334
CREATED:20240927T075135Z
LAST-MODIFIED:20240927T075136Z
UID:2637-1729008000-1729018800@navet.org
SUMMARY:Öppen teater-praktik med BBB
DESCRIPTION:Vi är en grupp som övar och testar övningar tillsammans. Vi använder olika genres (fysisk teater\, clown\, berättande\, mask\, impro\, forumteater\, skrivande) och turas om att leda övningar. BBB står för Backa\, Biskop\, Bergsjön eftersom de mest fasta deltagarna just nu kommer från föreningar i dessa tre stadsdelar\, men alla är välkomna! Under höstterminen 2024 huserar vi hos Meeting Plays i Biskopsgården. Undantaget är den 3 sept då vi är i kollektivhuset Stacken på Teleskopgatan 2.  \n\n\n\nKontakt: hanna.jansson@navet.org \n\n\n\nTräffarna kommer att vara tisdagar jämn vecka kl 16.00-19.00\, vanligtvis i Biskopsgården hos Meeting Plays(Vårväderstoget 2). Undantag 3 september! \n\n\n\n \n\n\n\nDatum: \n\n\n\n3 sept \n\n\n\n17 sept \n\n\n\n1 okt \n\n\n\n15 okt \n\n\n\n29 okt \n\n\n\n12 nov \n\n\n\n26 nov \n\n\n\n10 dec
URL:https://navet.org/event/oppen-teater-praktik-med-bbb-4/
END:VEVENT
END:VCALENDAR